BEGIN:VCALENDAR
VERSION:2.0
PRODID:-//wp-events-plugin.com//7.2.3.1//EN
TZID:Europe/Berlin
X-WR-TIMEZONE:Europe/Berlin
BEGIN:VEVENT
UID:915@drtv.de
DTSTART;TZID=Europe/Berlin;VALUE=DATE:20170422
DTEND;TZID=Europe/Berlin;VALUE=DATE:20170423
DTSTAMP:20230713T183744Z
URL:https://drtv.de/events/nordbadische-meisterschaften-im-rasenkraftsport
 -fuer-alle-klassen/
SUMMARY:Nordbadische Meisterschaften im Rasenkraftsport für alle Klassen
DESCRIPTION:[prettyfilelink size="" src="https://www.drtv.de/wp-content/upl
 oads/2017/03/NB2017_Ergebnisliste-Kurzform.pdf" type="pdf"]NB2017_Ergebnis
 liste (Kurzform)[/prettyfilelink]\n\n[prettyfilelink size="" src="https://
 www.drtv.de/wp-content/uploads/2017/03/Nordbadische_Meisterschaft_2017.pdf
 " type="pdf"]Nordbadische_Meisterschaft_2017[/prettyfilelink]
CATEGORIES:Ergebnis Rasenkraftsport,Ergebnisdatei RDA liegt vor,Termin
 Rasenkraftsport,Termin Rasenkraftsport + Ausschr.
LOCATION:Ladenburg\, Römerstadion\, Ladenburg\, 68526\, Wurfanlage - Röme
 rstadion\, Deutschland
GEO:49.47476;8.606999999999971
X-APPLE-STRUCTURED-LOCATION;VALUE=URI;X-ADDRESS=Römerstadion\, Ladenburg\,
  68526\, Wurfanlage - Römerstadion\, Deutschland;X-APPLE-RADIUS=100;X-TIT
 LE=Ladenburg:geo:49.47476,8.606999999999971
END:VEVENT
BEGIN:VTIMEZONE
TZID:Europe/Berlin
X-LIC-LOCATION:Europe/Berlin
BEGIN:DAYLIGHT
DTSTART:20170326T030000
TZOFFSETFROM:+0100
TZOFFSETTO:+0200
TZNAME:CEST
END:DAYLIGHT
END:VTIMEZONE
END:VCALENDAR