BEGIN:VCALENDAR
VERSION:2.0
PRODID:-//wp-events-plugin.com//7.2.3.1//EN
TZID:Europe/Berlin
X-WR-TIMEZONE:Europe/Berlin
BEGIN:VEVENT
UID:1076@drtv.de
DTSTART;TZID=Europe/Berlin:20180722T000000
DTEND;TZID=Europe/Berlin:20180722T000000
DTSTAMP:20230713T183643Z
URL:https://drtv.de/events/nordhessische-meisterschaften-im-rasenkraftspor
 t-4/
SUMMARY:Nordhessische Meisterschaften im Rasenkraftsport
DESCRIPTION:[prettyfilelink size="" src="https://www.drtv.de/wp-content/upl
 oads/2018/02/Bebra-22.07.2018-NdH-mit-Korrektur_Ergebnisliste-Kurzform.pdf
 " type="pdf"]Bebra 22.07.2018 NdH mit Korrektur_Ergebnisliste (Kurzform)[/
 prettyfilelink]\n\n[prettyfilelink size="" src="https://www.drtv.de/wp-con
 tent/uploads/2018/03/22.07.-2018-Ausschreibung-RKS-NH.pdf" type="pdf"]22.0
 7. 2018-Ausschreibung-RKS-NH[/prettyfilelink]
CATEGORIES:Ergebnis Rasenkraftsport,Ergebnisdatei RDA liegt vor,Termin
 Rasenkraftsport,Termin Rasenkraftsport + Ausschr.
LOCATION:Bebra/Gilfershausen\, In den Dellen 26\, Bebra-Gilfershausen\, Hes
 sen\, 36179\, Sportpark\, Deutschland
GEO:50.98554;9.829799999999977
X-APPLE-STRUCTURED-LOCATION;VALUE=URI;X-ADDRESS=In den Dellen 26\, Bebra-Gi
 lfershausen\, Hessen\, 36179\, Sportpark\, Deutschland;X-APPLE-RADIUS=100;
 X-TITLE=Bebra/Gilfershausen:geo:50.98554,9.829799999999977
END:VEVENT
BEGIN:VTIMEZONE
TZID:Europe/Berlin
X-LIC-LOCATION:Europe/Berlin
BEGIN:DAYLIGHT
DTSTART:20180325T030000
TZOFFSETFROM:+0100
TZOFFSETTO:+0200
TZNAME:CEST
END:DAYLIGHT
END:VTIMEZONE
END:VCALENDAR