BEGIN:VCALENDAR
VERSION:2.0
PRODID:-//wp-events-plugin.com//7.2.3.1//EN
TZID:Europe/Berlin
X-WR-TIMEZONE:Europe/Berlin
BEGIN:VEVENT
UID:1075@drtv.de
DTSTART;TZID=Europe/Berlin:20180415T000000
DTEND;TZID=Europe/Berlin:20180415T000000
DTSTAMP:20230713T183644Z
URL:https://drtv.de/events/nordhessischer-werfertag-im-rasenkraftsport/
SUMMARY:Nordhessischer Werfertag im Rasenkraftsport
DESCRIPTION:[prettyfilelink size="" src="https://www.drtv.de/wp-content/upl
 oads/2018/03/Bebra-15.04.2018-WK01_Ergebnisliste.pdf" type="pdf"]Bebra 15.
 04.2018 - WK01_Ergebnisliste[/prettyfilelink]\n\n[prettyfilelink size="" s
 rc="https://www.drtv.de/wp-content/uploads/2018/03/Bebra-15.04.2018-WK02_E
 rgebnisliste.pdf" type="pdf"]Bebra 15.04.2018 - WK02_Ergebnisliste[/pretty
 filelink]\n\n&nbsp\;\n\n[prettyfilelink size="" src="https://www.drtv.de/w
 p-content/uploads/2018/03/15.04.2018-NH-WT-in-Bebra-Ausschreibung.pdf" typ
 e="pdf"]15.04.2018 NH - WT in Bebra Ausschreibung[/prettyfilelink]
CATEGORIES:Ergebnis Rasenkraftsport,Ergebnisdatei RDA liegt vor,Termin
 Rasenkraftsport,Termin Rasenkraftsport + Ausschr.
LOCATION:Bebra/Gilfershausen\, In den Dellen 26\, Bebra-Gilfershausen\, Hes
 sen\, 36179\, Sportpark\, Deutschland
GEO:50.98554;9.829799999999977
X-APPLE-STRUCTURED-LOCATION;VALUE=URI;X-ADDRESS=In den Dellen 26\, Bebra-Gi
 lfershausen\, Hessen\, 36179\, Sportpark\, Deutschland;X-APPLE-RADIUS=100;
 X-TITLE=Bebra/Gilfershausen:geo:50.98554,9.829799999999977
END:VEVENT
BEGIN:VTIMEZONE
TZID:Europe/Berlin
X-LIC-LOCATION:Europe/Berlin
BEGIN:DAYLIGHT
DTSTART:20180325T030000
TZOFFSETFROM:+0100
TZOFFSETTO:+0200
TZNAME:CEST
END:DAYLIGHT
END:VTIMEZONE
END:VCALENDAR