BEGIN:VCALENDAR
VERSION:2.0
PRODID:-//wp-events-plugin.com//7.2.3.1//EN
TZID:Europe/Berlin
X-WR-TIMEZONE:Europe/Berlin
BEGIN:VEVENT
UID:1136@drtv.de
DTSTART;TZID=Europe/Berlin:20181014T000000
DTEND;TZID=Europe/Berlin:20181014T000000
DTSTAMP:20230713T183615Z
URL:https://drtv.de/events/offene-vereinsmeisterschaften-im-steinstossen/
SUMMARY:Offene Vereinsmeisterschaften im Steinstoßen
DESCRIPTION:[prettyfilelink size="" src="https://www.drtv.de/wp-content/upl
 oads/2018/10/Eppstein-14102018_Ergebnisliste.pdf" type="pdf"]Eppstein 1410
 2018_Ergebnisliste[/prettyfilelink]\n\n[prettyfilelink size="" src="https:
 //www.drtv.de/wp-content/uploads/2018/10/Ausschreibung-Eppstein-14102018.p
 df" type="pdf"]Ausschreibung-Eppstein 14102018[/prettyfilelink]
CATEGORIES:Ergebnis Rasenkraftsport,Ergebnisdatei RDA liegt vor,Termin
 Rasenkraftsport,Termin Rasenkraftsport + Ausschr.
LOCATION:Eppstein\, Auf dem Wingertsberg 2.1\, Eppstein/Taunus\, Hessen\, 6
 5817\, Deutschland
GEO:50.14403000000001;8.39074000000005
X-APPLE-STRUCTURED-LOCATION;VALUE=URI;X-ADDRESS=Auf dem Wingertsberg 2.1\, 
 Eppstein/Taunus\, Hessen\, 65817\, Deutschland;X-APPLE-RADIUS=100;X-TITLE=
 Eppstein:geo:50.14403000000001,8.39074000000005
END:VEVENT
BEGIN:VTIMEZONE
TZID:Europe/Berlin
X-LIC-LOCATION:Europe/Berlin
BEGIN:DAYLIGHT
DTSTART:20180325T030000
TZOFFSETFROM:+0100
TZOFFSETTO:+0200
TZNAME:CEST
END:DAYLIGHT
END:VTIMEZONE
END:VCALENDAR