BEGIN:VCALENDAR
VERSION:2.0
PRODID:-//wp-events-plugin.com//7.2.3.1//EN
TZID:Europe/Berlin
X-WR-TIMEZONE:Europe/Berlin
BEGIN:VEVENT
UID:833@drtv.de
DTSTART;TZID=Europe/Berlin;VALUE=DATE:20161016
DTEND;TZID=Europe/Berlin;VALUE=DATE:20161017
DTSTAMP:20230713T183800Z
URL:https://drtv.de/events/offene-westdeutsche-meisterschaften-im-rasenkra
 ftsport/
SUMMARY:Offene Westdeutsche-Meisterschaften im Rasenkraftsport
DESCRIPTION:[prettyfilelink size="" src="https://www.drtv.de/wp-content/upl
 oads/2016/09/Offene-Westdeutsche-Meisterschaften_16.10.2016_Ergebnisliste.
 htm.pdf" type="pdf"]offene-westdeutsche-meisterschaften_16-10-2016_ergebni
 sliste-htm[/prettyfilelink]\n\n[prettyfilelink size="" src="https://www.dr
 tv.de/wp-content/uploads/2016/09/Ausschreibung-Offene-WD-Meistersch..pdf" 
 type="pdf"]ausschreibung-offene-wd-meistersch[/prettyfilelink]
CATEGORIES:Ergebnis Rasenkraftsport,Ergebnisdatei RDA liegt vor,Termin
 Rasenkraftsport
LOCATION:Leichlingen\, Balker Aue\, Leichlingen\, NRW\, 42799\, Sportzentru
 m\, Deutschland
GEO:51.09511;7.016849999999977
X-APPLE-STRUCTURED-LOCATION;VALUE=URI;X-ADDRESS=Balker Aue\, Leichlingen\, 
 NRW\, 42799\, Sportzentrum\, Deutschland;X-APPLE-RADIUS=100;X-TITLE=Leichl
 ingen:geo:51.09511,7.016849999999977
END:VEVENT
BEGIN:VTIMEZONE
TZID:Europe/Berlin
X-LIC-LOCATION:Europe/Berlin
BEGIN:DAYLIGHT
DTSTART:20160327T030000
TZOFFSETFROM:+0100
TZOFFSETTO:+0200
TZNAME:CEST
END:DAYLIGHT
END:VTIMEZONE
END:VCALENDAR