BEGIN:VCALENDAR
VERSION:2.0
PRODID:-//wp-events-plugin.com//7.2.3.1//EN
TZID:Europe/Berlin
X-WR-TIMEZONE:Europe/Berlin
BEGIN:VEVENT
UID:1763@drtv.de
DTSTART;TZID=Europe/Berlin;VALUE=DATE:20240907
DTEND;TZID=Europe/Berlin;VALUE=DATE:20240909
DTSTAMP:20240530T170056Z
URL:https://drtv.de/events/ossweiler-highlandgames-deutsche-meisterschafte
 n-jugend-und-masters/
SUMMARY:Oßweiler Highlandgames - Deutsche Meisterschaften Jugend und Maste
 rs
DESCRIPTION:Deutsche Meisterschaften der Jugend und Masters am 7. und 8. Se
 ptember 2024\nInfos\nfolgen
CATEGORIES:Ergebnis Highland Games,Termin Highland Games
LOCATION:Ludwigsburg-Oßweil\, Walter-Flex-Str. 75\, Ludwigsburg-Oßweil\, 
 71640\, Deutschland
GEO:48.8968828;9.228563399999984
X-APPLE-STRUCTURED-LOCATION;VALUE=URI;X-ADDRESS=Walter-Flex-Str. 75\, Ludwi
 gsburg-Oßweil\, 71640\, Deutschland;X-APPLE-RADIUS=100;X-TITLE=Ludwigsbur
 g-Oßweil:geo:48.8968828,9.228563399999984
END:VEVENT
BEGIN:VTIMEZONE
TZID:Europe/Berlin
X-LIC-LOCATION:Europe/Berlin
BEGIN:DAYLIGHT
DTSTART:20240331T030000
TZOFFSETFROM:+0100
TZOFFSETTO:+0200
TZNAME:CEST
END:DAYLIGHT
END:VTIMEZONE
END:VCALENDAR