BEGIN:VCALENDAR
VERSION:2.0
PRODID:-//wp-events-plugin.com//7.2.3.1//EN
TZID:Europe/Berlin
X-WR-TIMEZONE:Europe/Berlin
BEGIN:VEVENT
UID:1067@drtv.de
DTSTART;TZID=Europe/Berlin:20180310T000000
DTEND;TZID=Europe/Berlin:20180310T000000
DTSTAMP:20230713T183646Z
URL:https://drtv.de/events/phoenix-werfertag-2/
SUMMARY:Phoenix-Werfertag
DESCRIPTION:[prettyfilelink size="" src="https://www.drtv.de/wp-content/upl
 oads/2018/02/2.-Werfertag-2018-RKS-Phoenix-Mutterstadt-10.03.2018_Ergebnis
 liste-Kurzform.pdf" type="pdf"]2. Werfertag 2018 RKS Phoenix Mutterstadt 1
 0.03.2018_Ergebnisliste (Kurzform)[/prettyfilelink]\n\n[prettyfilelink siz
 e="" src="https://www.drtv.de/wp-content/uploads/2018/02/10.03.18-Ausschre
 ibung.pdf" type="pdf"]10.03.18-Ausschreibung[/prettyfilelink]
CATEGORIES:Ergebnis Rasenkraftsport,Ergebnisdatei RDA liegt vor,Termin
 Rasenkraftsport
LOCATION:Mutterstadt\, Bohligstrasse 1\, Mutterstadt\, Rheinland-Pfalz\, 67
 112\, Deutschland
GEO:49.44486999999999;8.358339999999998
X-APPLE-STRUCTURED-LOCATION;VALUE=URI;X-ADDRESS=Bohligstrasse 1\, Muttersta
 dt\, Rheinland-Pfalz\, 67112\, Deutschland;X-APPLE-RADIUS=100;X-TITLE=Mutt
 erstadt:geo:49.44486999999999,8.358339999999998
END:VEVENT
BEGIN:VTIMEZONE
TZID:Europe/Berlin
X-LIC-LOCATION:Europe/Berlin
BEGIN:STANDARD
DTSTART:20171029T020000
TZOFFSETFROM:+0200
TZOFFSETTO:+0100
TZNAME:CET
END:STANDARD
END:VTIMEZONE
END:VCALENDAR