BEGIN:VCALENDAR
VERSION:2.0
PRODID:-//wp-events-plugin.com//7.2.3.1//EN
TZID:Europe/Berlin
X-WR-TIMEZONE:Europe/Berlin
BEGIN:VEVENT
UID:181@drtv.de
DTSTART;TZID=Europe/Berlin;VALUE=DATE:20130501
DTEND;TZID=Europe/Berlin;VALUE=DATE:20130502
DTSTAMP:20230713T184159Z
URL:https://drtv.de/events/qualifikationsdurchgang-rks-bundesliga-rheinlan
 d-pfalz-meisterschaften-rks-fur-junioren-manner-und-frauen-und-pfalzhammer
 wurf-meisterschaften-aktive/
SUMMARY:Qualifikationsdurchgang RKS-Bundesliga\, Rheinland-Pfalz-Meistersch
 aften RKS für Junioren\, Männer und Frauen und Pfalzhammerwurf-Meistersc
 haften Aktive
DESCRIPTION:[prettyfilelink src="https://www.drtv.de/wp-content/uploads/201
 3/01/Bundesligaqualifikation-01.05.2013.pdf" type="pdf"]Bundesligaqualifik
 ation 01.05.2013[/prettyfilelink][prettyfilelink src="https://www.drtv.de/
 wp-content/uploads/2013/01/Rheinland-Pfalz-Mstr.-Jun.-und-Aktive-01.05.201
 31.pdf" type="pdf"]Rheinland-Pfalz-Mstr. Jun. und Aktive 01.05.2013[/prett
 yfilelink][prettyfilelink src="https://www.drtv.de/wp-content/uploads/2013
 /01/Ausschreibung-Rhld.-Pf.-Mstr.-Aktive-und-Buli-Quali-01.05.2013.pdf" ty
 pe="pdf"]Ausschreibung Rhld.-Pf.-Mstr. Aktive und Buli-Quali 01.05.2013[/p
 rettyfilelink]"Navi-Adresse": Waldstraße 49\, 67112 Mutterstadt
CATEGORIES:Ergebnis Rasenkraftsport,Termin Rasenkraftsport
LOCATION:Mutterstadt Sportpark\, Waldstraße 49\, Mutterstadt\, Rheinland-P
 falz\, 67112\, Deutschland
GEO:49.423419;8.367577799999935
X-APPLE-STRUCTURED-LOCATION;VALUE=URI;X-ADDRESS=Waldstraße 49\, Mutterstad
 t\, Rheinland-Pfalz\, 67112\, Deutschland;X-APPLE-RADIUS=100;X-TITLE=Mutte
 rstadt Sportpark:geo:49.423419,8.367577799999935
END:VEVENT
BEGIN:VTIMEZONE
TZID:Europe/Berlin
X-LIC-LOCATION:Europe/Berlin
BEGIN:DAYLIGHT
DTSTART:20130331T030000
TZOFFSETFROM:+0100
TZOFFSETTO:+0200
TZNAME:CEST
END:DAYLIGHT
END:VTIMEZONE
END:VCALENDAR