BEGIN:VCALENDAR
VERSION:2.0
PRODID:-//wp-events-plugin.com//7.2.3.1//EN
TZID:Europe/Berlin
X-WR-TIMEZONE:Europe/Berlin
BEGIN:VEVENT
UID:1071@drtv.de
DTSTART;TZID=Europe/Berlin:20180325T000000
DTEND;TZID=Europe/Berlin:20180325T000000
DTSTAMP:20230713T183644Z
URL:https://drtv.de/events/rasenkraftsport-dreikampf-5/
SUMMARY:Rasenkraftsport -Dreikampf
DESCRIPTION:[prettyfilelink size="" src="https://www.drtv.de/wp-content/upl
 oads/2018/02/2018-03-25_XML-Export_Ergebnisliste-Kurzform.pdf" type="pdf"]
 2018-03-25_XML-Export_Ergebnisliste (Kurzform)[/prettyfilelink]\n\n[pretty
 filelink size="" src="https://www.drtv.de/wp-content/uploads/2018/02/a_201
 8-03-25.pdf" type="pdf"]a_2018-03-25[/prettyfilelink]
CATEGORIES:Ergebnis Rasenkraftsport,Termin Rasenkraftsport
LOCATION:Lüchow\, Schulweg 4\, Lüchow\, Niedersachsen\, 29439\, Sportplat
 z im Schulzentrum Lüchow\, Deutschland
GEO:52.9652953;11.161873499999956
X-APPLE-STRUCTURED-LOCATION;VALUE=URI;X-ADDRESS=Schulweg 4\, Lüchow\, Nied
 ersachsen\, 29439\, Sportplatz im Schulzentrum Lüchow\, Deutschland;X-A
 PPLE-RADIUS=100;X-TITLE=Lüchow:geo:52.9652953,11.161873499999956
END:VEVENT
BEGIN:VTIMEZONE
TZID:Europe/Berlin
X-LIC-LOCATION:Europe/Berlin
BEGIN:STANDARD
DTSTART:20171029T020000
TZOFFSETFROM:+0200
TZOFFSETTO:+0100
TZNAME:CET
END:STANDARD
END:VTIMEZONE
END:VCALENDAR