BEGIN:VCALENDAR
VERSION:2.0
PRODID:-//wp-events-plugin.com//7.2.3.1//EN
TZID:Europe/Berlin
X-WR-TIMEZONE:Europe/Berlin
BEGIN:VEVENT
UID:1685@drtv.de
DTSTART;TZID=Europe/Berlin:20230604T000000
DTEND;TZID=Europe/Berlin:20230604T000000
DTSTAMP:20230713T183133Z
URL:https://drtv.de/events/rasenkraftsport-einladungswettkampf-2/
SUMMARY:Rasenkraftsport Einladungswettkampf
DESCRIPTION:[prettyfilelink size="" src="https://www.drtv.de/wp-content/upl
 oads/2023/05/202300604-Ausschreibung-Hassloch-RKS-.pdf" type="pdf"]2023006
 04 Ausschreibung Haßloch RKS[/prettyfilelink]\n\n[prettyfilelink size="" 
 src="https://www.drtv.de/wp-content/uploads/2023/05/20230604-RKS-Wettkampf
 -Hassloch_Ergebnisliste-Kurzform.pdf" type="pdf"]20230604 RKS Wettkampf Ha
 ßloch_Ergebnisliste (Kurzform)[/prettyfilelink]\n\n[prettyfilelink size="
 " src="https://www.drtv.de/wp-content/uploads/2023/05/20230604-RKS-Wettkam
 pf-Hassloch_Hammerwurfturnier_Ergebnisliste.pdf" type="pdf"]20230604 RKS W
 ettkampf Haßloch_Hammerwurfturnier_Ergebnisliste[/prettyfilelink]
CATEGORIES:Ergebnis Rasenkraftsport,Ergebnisdatei RDA liegt vor,Termin
 Rasenkraftsport,Termin Rasenkraftsport + Ausschr.
LOCATION:Haßloch Stadion an der Kurpfalzschule\, Am Schachtelgraben 15\, H
 aßloch\, 67454\, Deutschland
GEO:49.36974000000001;8.262749999999983
X-APPLE-STRUCTURED-LOCATION;VALUE=URI;X-ADDRESS=Am Schachtelgraben 15\, Ha
 ßloch\, 67454\, Deutschland;X-APPLE-RADIUS=100;X-TITLE=Haßloch Stadion a
 n der Kurpfalzschule:geo:49.36974000000001,8.262749999999983
END:VEVENT
BEGIN:VTIMEZONE
TZID:Europe/Berlin
X-LIC-LOCATION:Europe/Berlin
BEGIN:DAYLIGHT
DTSTART:20230326T030000
TZOFFSETFROM:+0100
TZOFFSETTO:+0200
TZNAME:CEST
END:DAYLIGHT
END:VTIMEZONE
END:VCALENDAR