BEGIN:VCALENDAR
VERSION:2.0
PRODID:-//wp-events-plugin.com//7.2.3.1//EN
TZID:Europe/Berlin
X-WR-TIMEZONE:Europe/Berlin
BEGIN:VEVENT
UID:1284@drtv.de
DTSTART;TZID=Europe/Berlin:20190908T000000
DTEND;TZID=Europe/Berlin:20190908T000000
DTSTAMP:20230713T183505Z
URL:https://drtv.de/events/rasenkraftsport-lehrgang-2/
SUMMARY:Rasenkraftsport - Lehrgang
DESCRIPTION:[prettyfilelink size="" src="https://www.drtv.de/wp-content/upl
 oads/2019/07/Lehrgang-08.-September-2019-Langenbrand.pdf" type="pdf"]Lehrg
 ang 08. September 2019 Langenbrand[/prettyfilelink]
CATEGORIES:Termin Rasenkraftsport,Termin Rasenkraftsport + Ausschr.
LOCATION:Langenbrand\, Bahnhofstrasse 9\, Forbach-Langenbrand\, 76596\, Spo
 rtplatz Langenbrand\, Deutschland
GEO:48.703715;8.35600880000004
X-APPLE-STRUCTURED-LOCATION;VALUE=URI;X-ADDRESS=Bahnhofstrasse 9\, Forbach-
 Langenbrand\, 76596\, Sportplatz Langenbrand\, Deutschland;X-APPLE-RADIUS=
 100;X-TITLE=Langenbrand:geo:48.703715,8.35600880000004
END:VEVENT
BEGIN:VTIMEZONE
TZID:Europe/Berlin
X-LIC-LOCATION:Europe/Berlin
BEGIN:DAYLIGHT
DTSTART:20190331T030000
TZOFFSETFROM:+0100
TZOFFSETTO:+0200
TZNAME:CEST
END:DAYLIGHT
END:VTIMEZONE
END:VCALENDAR