BEGIN:VCALENDAR
VERSION:2.0
PRODID:-//wp-events-plugin.com//7.2.3.1//EN
TZID:Europe/Berlin
X-WR-TIMEZONE:Europe/Berlin
BEGIN:VEVENT
UID:595@drtv.de
DTSTART;TZID=Europe/Berlin:20150328T091500
DTEND;TZID=Europe/Berlin:20150328T161500
DTSTAMP:20230713T183931Z
URL:https://drtv.de/events/rasenkraftsport-lehrgang/
SUMMARY:Rasenkraftsport - Lehrgang
DESCRIPTION:[prettyfilelink size="" src="https://www.drtv.de/wp-content/upl
 oads/2015/03/Lehrgang-März-2015-Langenbrand.doc" type="doc"]Lehrgang Mär
 z 2015 Langenbrand[/prettyfilelink]
CATEGORIES:Termin Rasenkraftsport
LOCATION:Langenbrand\, Bahnhofstrasse 9\, Forbach-Langenbrand\, 76596\, Spo
 rtplatz Langenbrand\, Deutschland
GEO:48.703715;8.35600880000004
X-APPLE-STRUCTURED-LOCATION;VALUE=URI;X-ADDRESS=Bahnhofstrasse 9\, Forbach-
 Langenbrand\, 76596\, Sportplatz Langenbrand\, Deutschland;X-APPLE-RADIUS=
 100;X-TITLE=Langenbrand:geo:48.703715,8.35600880000004
END:VEVENT
BEGIN:VTIMEZONE
TZID:Europe/Berlin
X-LIC-LOCATION:Europe/Berlin
BEGIN:STANDARD
DTSTART:20141026T020000
TZOFFSETFROM:+0200
TZOFFSETTO:+0100
TZNAME:CET
END:STANDARD
END:VTIMEZONE
END:VCALENDAR