BEGIN:VCALENDAR
VERSION:2.0
PRODID:-//wp-events-plugin.com//7.2.3.1//EN
TZID:Europe/Berlin
X-WR-TIMEZONE:Europe/Berlin
BEGIN:VEVENT
UID:145@drtv.de
DTSTART;TZID=Europe/Berlin;VALUE=DATE:20121003
DTEND;TZID=Europe/Berlin;VALUE=DATE:20121004
DTSTAMP:20230713T184207Z
URL:https://drtv.de/events/rheinland-pfalz-meisterschaften-der-senioren/
SUMMARY:RKS RP Meisterschaften der Senioren
DESCRIPTION:[prettyfilelink src="https://www.drtv.de/wp-content/uploads/201
 2/10/121003-Rheinland-Pfalz-Mstr.-Sen.-II1.doc" type="doc"]121003 Rheinlan
 d-Pfalz-Mstr. Sen. II[/prettyfilelink][prettyfilelink src="https://www.drt
 v.de/wp-content/uploads/2012/10/Rheinland-Pfalz-Mstr.-ab-MS+WS-3-03.10.201
 2.pdf" type="pdf"]Rheinland-Pfalz-Mstr. ab MS+WS 3 03.10.2012[/prettyfilel
 ink]
CATEGORIES:Ergebnis Rasenkraftsport,Termin Rasenkraftsport
LOCATION:Mutterstadt\, Bohligstrasse 1\, Mutterstadt\, Rheinland-Pfalz\, 67
 112\, Deutschland
GEO:49.44486999999999;8.358339999999998
X-APPLE-STRUCTURED-LOCATION;VALUE=URI;X-ADDRESS=Bohligstrasse 1\, Muttersta
 dt\, Rheinland-Pfalz\, 67112\, Deutschland;X-APPLE-RADIUS=100;X-TITLE=Mutt
 erstadt:geo:49.44486999999999,8.358339999999998
END:VEVENT
BEGIN:VTIMEZONE
TZID:Europe/Berlin
X-LIC-LOCATION:Europe/Berlin
BEGIN:DAYLIGHT
DTSTART:20120325T030000
TZOFFSETFROM:+0100
TZOFFSETTO:+0200
TZNAME:CEST
END:DAYLIGHT
END:VTIMEZONE
END:VCALENDAR