BEGIN:VCALENDAR
VERSION:2.0
PRODID:-//wp-events-plugin.com//7.2.3.1//EN
TZID:Europe/Berlin
X-WR-TIMEZONE:Europe/Berlin
BEGIN:VEVENT
UID:1241@drtv.de
DTSTART;TZID=Europe/Berlin:20190505T000000
DTEND;TZID=Europe/Berlin:20190505T000000
DTSTAMP:20230713T183554Z
URL:https://drtv.de/events/rheinland-pfalz-rasenkraftsportmeisterschaften/
SUMMARY:Rheinland-Pfalz-Rasenkraftsportmeisterschaften
DESCRIPTION:[prettyfilelink size="" src="https://www.drtv.de/wp-content/upl
 oads/2019/04/190505-Rhld.-Pf.-Mstr.-Aktive-und-Sen.-1-und-2-Mutterstadt.pd
 f" type="pdf"]190505 Rhld.-Pf.-Mstr. Aktive und Sen. 1 und 2 Mutterstadt[/
 prettyfilelink]\n\n[prettyfilelink size="" src="https://www.drtv.de/wp-con
 tent/uploads/2019/04/Kopie-von-190505-Buli-Qualifikation.pdf" type="pdf"]K
 opie von 190505 Buli-Qualifikation[/prettyfilelink]\n\n&nbsp\;\n\n[prettyf
 ilelink size="" src="https://www.drtv.de/wp-content/uploads/2019/04/RKS-05
 .05.19-AusschreibungZeitplan.pdf" type="pdf"]RKS-05.05.19-Ausschreibung+Ze
 itplan[/prettyfilelink]
CATEGORIES:Ergebnis Rasenkraftsport,Ergebnisdatei RDA liegt vor,Termin
 Rasenkraftsport,Termin Rasenkraftsport + Ausschr.
LOCATION:Mutterstadt\, Bohligstrasse 1\, Mutterstadt\, Rheinland-Pfalz\, 67
 112\, Deutschland
GEO:49.44486999999999;8.358339999999998
X-APPLE-STRUCTURED-LOCATION;VALUE=URI;X-ADDRESS=Bohligstrasse 1\, Muttersta
 dt\, Rheinland-Pfalz\, 67112\, Deutschland;X-APPLE-RADIUS=100;X-TITLE=Mutt
 erstadt:geo:49.44486999999999,8.358339999999998
END:VEVENT
BEGIN:VTIMEZONE
TZID:Europe/Berlin
X-LIC-LOCATION:Europe/Berlin
BEGIN:DAYLIGHT
DTSTART:20190331T030000
TZOFFSETFROM:+0100
TZOFFSETTO:+0200
TZNAME:CEST
END:DAYLIGHT
END:VTIMEZONE
END:VCALENDAR