BEGIN:VCALENDAR
VERSION:2.0
PRODID:-//wp-events-plugin.com//7.2.3.1//EN
TZID:Europe/Berlin
X-WR-TIMEZONE:Europe/Berlin
BEGIN:VEVENT
UID:1012@drtv.de
DTSTART;TZID=Europe/Berlin;VALUE=DATE:20180714
DTEND;TZID=Europe/Berlin;VALUE=DATE:20180715
DTSTAMP:20230713T183657Z
URL:https://drtv.de/events/rks-bundesligaendkampf/
SUMMARY:RKS Bundesligaendkampf
DESCRIPTION:[prettyfilelink size="" src="https://www.drtv.de/wp-content/upl
 oads/2017/12/Dischingen-2018-07-14-BL_Ergebnisliste.pdf" type="pdf"]Dischi
 ngen-2018-07-14 -BL_Ergebnisliste[/prettyfilelink]\n\n    \n\nAngemeldete 
 Mannschaften/Vereine beim BL-Endkampf\n\nMänner\n\nMannschaft\n\nWG Fr.-C
 rumbach/Bürstadt\n\nVfL Waiblingen\n\nSV Dischingen 1\n\nSV Dischingen 2\
 n\nASV Erfurt\n\nTV Langenbrand 1\n\nTV Langenbrand 2\n\nTSG Eppstein\n\nF
 rauen\n\nMannschaft\n\nASV Erfurt\n\nRKS Phoenix Mutterstadt\n\nSV Dischin
 gen\n\nWG Fr.-Crumbach/Bürstadt\n\n[prettyfilelink size="" src="https://w
 ww.drtv.de/wp-content/uploads/2017/12/Ausschreibung-DM-Buli-Endkampf-2018.
 pdf" type="pdf"]Ausschreibung-DM-Buli-Endkampf-2018[/prettyfilelink]
CATEGORIES:Ergebnis Rasenkraftsport,Ergebnisdatei RDA liegt vor,Termin
 Rasenkraftsport,Termin Rasenkraftsport + Ausschr.
LOCATION:Dischingen\, Turnstraße 5\, Dischingen\, Baden-Württemberg\, 895
 61\, Werferplatz (an Egauhalle)\, Deutschland
GEO:48.69521;10.361009999999964
X-APPLE-STRUCTURED-LOCATION;VALUE=URI;X-ADDRESS=Turnstraße 5\, Dischingen\
 , Baden-Württemberg\, 89561\, Werferplatz (an Egauhalle)\, Deutschland;X-
 APPLE-RADIUS=100;X-TITLE=Dischingen:geo:48.69521,10.361009999999964
END:VEVENT
BEGIN:VTIMEZONE
TZID:Europe/Berlin
X-LIC-LOCATION:Europe/Berlin
BEGIN:DAYLIGHT
DTSTART:20180325T030000
TZOFFSETFROM:+0100
TZOFFSETTO:+0200
TZNAME:CEST
END:DAYLIGHT
END:VTIMEZONE
END:VCALENDAR