BEGIN:VCALENDAR
VERSION:2.0
PRODID:-//wp-events-plugin.com//7.2.3.1//EN
TZID:Europe/Berlin
X-WR-TIMEZONE:Europe/Berlin
BEGIN:VEVENT
UID:470@drtv.de
DTSTART;TZID=Europe/Berlin:20140720T103000
DTEND;TZID=Europe/Berlin:20140720T103000
DTSTAMP:20230713T184013Z
URL:https://drtv.de/events/rks-dreikampf-des-tv-grunenthal/
SUMMARY:RKS Dreikampf des TV Grünenthal
DESCRIPTION:[prettyfilelink size="" src="https://www.drtv.de/wp-content/upl
 oads/2014/07/Ergebnisliste-Plettenberg.pdf" type="pdf"]Ergebnisliste Plett
 enberg[/prettyfilelink]\n\nMeldungen an :        \n\nHans Röcken\nGar
 tenstr. 6\n58849 Herscheid\nTel.:    02357 / 3323\nEmail: post@roecken-
 hans.de\n\nMeldeschluss:  \n\nMeldungen bis Mittwoch vor dem Wettkampf pe
 r E-Mail oder Meldeliste. Keine Nachmeldungen!\n\nZeitplan:\n\n10:00   
           Waage\n10:30             Dreikampf         
         \n\nStartgeld :  Dreikampf:      5\,00 €  \n\nEs wird 
 empfohlen\, insbesondere bei schlechtem Wetter\, vor dem  jeweiligen Wett
 kampf  anzufragen ob der Wettkampf durchgeführt wird.
CATEGORIES:Ergebnis Rasenkraftsport,Ergebnisdatei RDA liegt vor,Termin
 Rasenkraftsport
LOCATION:Lennestadion -Werferplatz-Plettenberg\, Am Hallenbad 6\, Plettenbe
 rg\, 58840\, NRW\, Deutschland
GEO:51.23207;7.860159999999951
X-APPLE-STRUCTURED-LOCATION;VALUE=URI;X-ADDRESS=Am Hallenbad 6\, Plettenber
 g\, 58840\, NRW\, Deutschland;X-APPLE-RADIUS=100;X-TITLE=Lennestadion -Wer
 ferplatz-Plettenberg:geo:51.23207,7.860159999999951
END:VEVENT
BEGIN:VTIMEZONE
TZID:Europe/Berlin
X-LIC-LOCATION:Europe/Berlin
BEGIN:DAYLIGHT
DTSTART:20140330T030000
TZOFFSETFROM:+0100
TZOFFSETTO:+0200
TZNAME:CEST
END:DAYLIGHT
END:VTIMEZONE
END:VCALENDAR