BEGIN:VCALENDAR
VERSION:2.0
PRODID:-//wp-events-plugin.com//7.2.3.1//EN
TZID:Europe/Berlin
X-WR-TIMEZONE:Europe/Berlin
BEGIN:VEVENT
UID:183@drtv.de
DTSTART;TZID=Europe/Berlin:20130310T100000
DTEND;TZID=Europe/Berlin:20130310T100000
DTSTAMP:20230713T184158Z
URL:https://drtv.de/events/rks-dreikampf-fur-aktive-senioren-jugend-und-sc
 huler-2/
SUMMARY:RKS-Dreikampf für Aktive\, Senioren\, Jugend und Schüler
DESCRIPTION:[prettyfilelink src="https://www.drtv.de/wp-content/uploads/201
 3/01/a_2013-03-10_luechow.pdf" type="pdf"]a_2013-03-10_luechow[/prettyfile
 link]
CATEGORIES:Termin Rasenkraftsport
LOCATION:Lüchow\, Schulweg 4\, Lüchow\, Niedersachsen\, 29439\, Sportplat
 z im Schulzentrum Lüchow\, Deutschland
GEO:52.9652953;11.161873499999956
X-APPLE-STRUCTURED-LOCATION;VALUE=URI;X-ADDRESS=Schulweg 4\, Lüchow\, Nied
 ersachsen\, 29439\, Sportplatz im Schulzentrum Lüchow\, Deutschland;X-A
 PPLE-RADIUS=100;X-TITLE=Lüchow:geo:52.9652953,11.161873499999956
END:VEVENT
BEGIN:VTIMEZONE
TZID:Europe/Berlin
X-LIC-LOCATION:Europe/Berlin
BEGIN:STANDARD
DTSTART:20121028T020000
TZOFFSETFROM:+0200
TZOFFSETTO:+0100
TZNAME:CET
END:STANDARD
END:VTIMEZONE
END:VCALENDAR