BEGIN:VCALENDAR
VERSION:2.0
PRODID:-//wp-events-plugin.com//7.2.3.1//EN
TZID:Europe/Berlin
X-WR-TIMEZONE:Europe/Berlin
BEGIN:VEVENT
UID:186@drtv.de
DTSTART;TZID=Europe/Berlin:20130614T170000
DTEND;TZID=Europe/Berlin:20130614T170000
DTSTAMP:20230713T184158Z
URL:https://drtv.de/events/rks-dreikampf-fur-aktive-senioren-jugend-und-sc
 huler-4/
SUMMARY:Offene Bezirksmeisterschaften - RKS-Dreikampf für Aktive\, Seniore
 n\, Jugend und Schüler
DESCRIPTION:[prettyfilelink src="https://www.drtv.de/wp-content/uploads/201
 3/01/e_2013-06-14-salzwedel.html.htm" type="html"]e_2013-06-14-salzwedel.h
 tml[/prettyfilelink][prettyfilelink src="https://www.drtv.de/wp-content/up
 loads/2013/01/a_2013-06-14_salzwedel.doc" type="doc"]a_2013-06-14_salzwede
 l[/prettyfilelink]
CATEGORIES:Ergebnis Rasenkraftsport,Termin Rasenkraftsport
LOCATION:Salzwedel\, Gerstedter Weg\, Salzwedel\, 29410\, Deutschland
GEO:52.8534482;11.123661500000026
X-APPLE-STRUCTURED-LOCATION;VALUE=URI;X-ADDRESS=Gerstedter Weg\, Salzwedel\
 , 29410\, Deutschland;X-APPLE-RADIUS=100;X-TITLE=Salzwedel:geo:52.8534482,
 11.123661500000026
END:VEVENT
BEGIN:VTIMEZONE
TZID:Europe/Berlin
X-LIC-LOCATION:Europe/Berlin
BEGIN:DAYLIGHT
DTSTART:20130331T030000
TZOFFSETFROM:+0100
TZOFFSETTO:+0200
TZNAME:CEST
END:DAYLIGHT
END:VTIMEZONE
END:VCALENDAR