BEGIN:VCALENDAR
VERSION:2.0
PRODID:-//wp-events-plugin.com//7.2.3.1//EN
TZID:Europe/Berlin
X-WR-TIMEZONE:Europe/Berlin
BEGIN:VEVENT
UID:185@drtv.de
DTSTART;TZID=Europe/Berlin:20130517T170000
DTEND;TZID=Europe/Berlin:20130517T170000
DTSTAMP:20230713T184157Z
URL:https://drtv.de/events/rks-dreikampf-fur-aktive-senioren-jugend-und-sc
 huler-am-17-mai-2013-in-luchow/
SUMMARY:Offene Kreismeisterschaft - RKS-Dreikampf für Aktive\, Senioren\, 
 Jugend und Schüler
DESCRIPTION:[prettyfilelink src="https://www.drtv.de/wp-content/uploads/201
 3/01/e_2013-05-17_luechow.html" type="html"]e_2013-05-17_luechow[/prettyfi
 lelink][prettyfilelink src="https://www.drtv.de/wp-content/uploads/2013/01
 /a_2013-05-17_luechow.doc" type="doc"]a_2013-05-17_luechow[/prettyfilelink
 ]
CATEGORIES:Ergebnis Rasenkraftsport,Termin Rasenkraftsport
LOCATION:Lüchow\, Schulweg 4\, Lüchow\, Niedersachsen\, 29439\, Sportplat
 z im Schulzentrum Lüchow\, Deutschland
GEO:52.9652953;11.161873499999956
X-APPLE-STRUCTURED-LOCATION;VALUE=URI;X-ADDRESS=Schulweg 4\, Lüchow\, Nied
 ersachsen\, 29439\, Sportplatz im Schulzentrum Lüchow\, Deutschland;X-A
 PPLE-RADIUS=100;X-TITLE=Lüchow:geo:52.9652953,11.161873499999956
END:VEVENT
BEGIN:VTIMEZONE
TZID:Europe/Berlin
X-LIC-LOCATION:Europe/Berlin
BEGIN:DAYLIGHT
DTSTART:20130331T030000
TZOFFSETFROM:+0100
TZOFFSETTO:+0200
TZNAME:CEST
END:DAYLIGHT
END:VTIMEZONE
END:VCALENDAR