BEGIN:VCALENDAR
VERSION:2.0
PRODID:-//wp-events-plugin.com//7.2.3.1//EN
TZID:Europe/Berlin
X-WR-TIMEZONE:Europe/Berlin
BEGIN:VEVENT
UID:1003@drtv.de
DTSTART;TZID=Europe/Berlin:20171217T110000
DTEND;TZID=Europe/Berlin:20171217T160000
DTSTAMP:20230713T183659Z
URL:https://drtv.de/events/rks-werfertag-beim-leichlinger-tv/
SUMMARY:RKS-Werfertag beim Leichlinger TV
DESCRIPTION:Werfertag 17.12.2017_Ergebnisliste\n\n[prettyfilelink size="" s
 rc="https://www.drtv.de/wp-content/uploads/2017/12/RKS-Wettkampf-17.12.17-
 1.pdf" type="pdf"]RKS-Wettkampf 17.12.17-1[/prettyfilelink]\n\nWettkampf a
 m 10.12. ausgefallen\n\n[prettyfilelink size="" src="https://www.drtv.de/w
 p-content/uploads/2017/12/RKS-Wettkampf-10.12.17.docx" type="doc"]RKS-Wett
 kampf 10.12.17[/prettyfilelink]
CATEGORIES:Ergebnis Rasenkraftsport,Ergebnisdatei RDA liegt vor,Termin
 Rasenkraftsport
LOCATION:Leichlingen\, Balker Aue\, Leichlingen\, NRW\, 42799\, Sportzentru
 m\, Deutschland
GEO:51.09511;7.016849999999977
X-APPLE-STRUCTURED-LOCATION;VALUE=URI;X-ADDRESS=Balker Aue\, Leichlingen\, 
 NRW\, 42799\, Sportzentrum\, Deutschland;X-APPLE-RADIUS=100;X-TITLE=Leichl
 ingen:geo:51.09511,7.016849999999977
END:VEVENT
BEGIN:VTIMEZONE
TZID:Europe/Berlin
X-LIC-LOCATION:Europe/Berlin
BEGIN:STANDARD
DTSTART:20171029T020000
TZOFFSETFROM:+0200
TZOFFSETTO:+0100
TZNAME:CET
END:STANDARD
END:VTIMEZONE
END:VCALENDAR