BEGIN:VCALENDAR
VERSION:2.0
PRODID:-//wp-events-plugin.com//7.2.3.1//EN
TZID:Europe/Berlin
X-WR-TIMEZONE:Europe/Berlin
BEGIN:VEVENT
UID:36@drtv.de
DTSTART;TZID=Europe/Berlin:20120908T140000
DTEND;TZID=Europe/Berlin:20120908T140000
DTSTAMP:20230713T184250Z
URL:https://drtv.de/events/rks-wettkampf-2/
SUMMARY:RKS Wettkampf
DESCRIPTION:[prettyfilelink src="https://www.drtv.de/wp-content/uploads/201
 2/04/Rasenkraftsport-3-Kampf-am-08.09.2012-in-Göttingen-Ergebnisliste.pdf
 " type="pdf"]Rasenkraftsport 3-Kampf am 08.09.2012 in Göttingen - Ergebni
 sliste[/prettyfilelink][prettyfilelink src="https://www.drtv.de/wp-content
 /uploads/2012/04/goettingen-0809.pdf" type="pdf"]goettingen 0809[/prettyfi
 lelink]
CATEGORIES:Ergebnis Rasenkraftsport,Termin Rasenkraftsport
LOCATION:Göttingen\, Sandweg 5\, Göttingen\, 37083\, Jahnstadion (Werferp
 latz)\, Deutschland
GEO:51.5190889;9.929905599999983
X-APPLE-STRUCTURED-LOCATION;VALUE=URI;X-ADDRESS=Sandweg 5\, Göttingen\, 37
 083\, Jahnstadion (Werferplatz)\, Deutschland;X-APPLE-RADIUS=100;X-TITLE=G
 öttingen:geo:51.5190889,9.929905599999983
END:VEVENT
BEGIN:VTIMEZONE
TZID:Europe/Berlin
X-LIC-LOCATION:Europe/Berlin
BEGIN:DAYLIGHT
DTSTART:20120325T030000
TZOFFSETFROM:+0100
TZOFFSETTO:+0200
TZNAME:CEST
END:DAYLIGHT
END:VTIMEZONE
END:VCALENDAR