BEGIN:VCALENDAR
VERSION:2.0
PRODID:-//wp-events-plugin.com//7.2.3.1//EN
TZID:Europe/Berlin
X-WR-TIMEZONE:Europe/Berlin
BEGIN:VEVENT
UID:288@drtv.de
DTSTART;TZID=Europe/Berlin:20130601T141500
DTEND;TZID=Europe/Berlin:20130601T141500
DTSTAMP:20230713T184118Z
URL:https://drtv.de/events/rks-wettkampf-3/
SUMMARY:RKS Wettkampf
DESCRIPTION:[prettyfilelink src="https://www.drtv.de/wp-content/uploads/201
 3/05/wn20130601_Ergebnisliste_neu.htm" type="html"]wn20130601_Ergebnislist
 e_neu[/prettyfilelink][prettyfilelink src="https://www.drtv.de/wp-content/
 uploads/2013/05/Ausschreibung_01_06_2013_Waiblingen.pdf" type="pdf"]Aussch
 reibung_01_06_2013_Waiblingen[/prettyfilelink]
CATEGORIES:Ergebnis Rasenkraftsport,Termin Rasenkraftsport
LOCATION:Waiblingen\, Oberer Ring 1\, Waiblingen\, 71332\, VfL Stadion und 
 Wurfanlage\, Deutschland
GEO:48.8249771;9.328668500000048
X-APPLE-STRUCTURED-LOCATION;VALUE=URI;X-ADDRESS=Oberer Ring 1\, Waiblingen\
 , 71332\, VfL Stadion und Wurfanlage\, Deutschland;X-APPLE-RADIUS=100;X-TI
 TLE=Waiblingen:geo:48.8249771,9.328668500000048
END:VEVENT
BEGIN:VTIMEZONE
TZID:Europe/Berlin
X-LIC-LOCATION:Europe/Berlin
BEGIN:DAYLIGHT
DTSTART:20130331T030000
TZOFFSETFROM:+0100
TZOFFSETTO:+0200
TZNAME:CEST
END:DAYLIGHT
END:VTIMEZONE
END:VCALENDAR