BEGIN:VCALENDAR
VERSION:2.0
PRODID:-//wp-events-plugin.com//7.2.3.1//EN
TZID:Europe/Berlin
X-WR-TIMEZONE:Europe/Berlin
BEGIN:VEVENT
UID:1004@drtv.de
DTSTART;TZID=Europe/Berlin:20171215T143000
DTEND;TZID=Europe/Berlin:20171215T180000
DTSTAMP:20230713T183659Z
URL:https://drtv.de/events/saisonabschluss-der-djk-aschaffenburg-2017/
SUMMARY:Saisonabschluss der DJK Aschaffenburg 2017
DESCRIPTION:[prettyfilelink size="" src="https://www.drtv.de/wp-content/upl
 oads/2017/12/Ausschreibung-Saisonabschluß-2017.pdf" type="pdf"]Ausschreib
 ung Saisonabschluß 2017[/prettyfilelink]\n\n[prettyfilelink size="" src="
 https://www.drtv.de/wp-content/uploads/2017/12/Ergebnisliste2017Aschaffenb
 urg.pdf" type="pdf"]Ergebnisliste Saisonabschluss Aschaffenburg[/prettyfil
 elink]
CATEGORIES:Ergebnis Rasenkraftsport,Ergebnisdatei RDA liegt vor,Termin
 Rasenkraftsport,Termin Rasenkraftsport + Ausschr.
LOCATION:Aschaffenburg\, Kleine Schönbuschallee 130\, Aschaffenburg\, Baye
 rn\, 63741\, Deutschland
GEO:49.96639;9.11773
X-APPLE-STRUCTURED-LOCATION;VALUE=URI;X-ADDRESS=Kleine Schönbuschallee 130
 \, Aschaffenburg\, Bayern\, 63741\, Deutschland;X-APPLE-RADIUS=100;X-TITLE
 =Aschaffenburg:geo:49.96639,9.11773
END:VEVENT
BEGIN:VTIMEZONE
TZID:Europe/Berlin
X-LIC-LOCATION:Europe/Berlin
BEGIN:STANDARD
DTSTART:20171029T020000
TZOFFSETFROM:+0200
TZOFFSETTO:+0100
TZNAME:CET
END:STANDARD
END:VTIMEZONE
END:VCALENDAR