BEGIN:VCALENDAR
VERSION:2.0
PRODID:-//wp-events-plugin.com//7.2.3.1//EN
TZID:Europe/Berlin
X-WR-TIMEZONE:Europe/Berlin
BEGIN:VEVENT
UID:854@drtv.de
DTSTART;TZID=Europe/Berlin;VALUE=DATE:20170422
DTEND;TZID=Europe/Berlin;VALUE=DATE:20170423
DTSTAMP:20230713T183755Z
URL:https://drtv.de/events/sichtung-u19u23/
SUMMARY:Sichtungslehrgang und LPT Männer U19/U23 und Frauen und U23
DESCRIPTION:[prettyfilelink size="" src="https://www.drtv.de/wp-content/upl
 oads/2016/11/LPT-Ausschreibung-22.04.17.pdf" type="pdf"]LPT-Ausschreibung 
 22.04.17[/prettyfilelink]\n\n[prettyfilelink size="" src="https://www.drtv
 .de/wp-content/uploads/2016/11/2017_LPT_Jugend-Junioren.xls" type="xls"]Er
 gebnisse 2017_LPT_Jugend-Junioren[/prettyfilelink]\n\n[prettyfilelink size
 ="" src="https://www.drtv.de/wp-content/uploads/2016/11/2017_LPT_Jugend.pd
 f" type="pdf"]2017_LPT_Jugend[/prettyfilelink]\n\n[prettyfilelink size="" 
 src="https://www.drtv.de/wp-content/uploads/2016/11/2017_LPT_Junioren.pdf"
  type="pdf"]2017_LPT_Junioren[/prettyfilelink]\n\nEinladung zum Sichtungsl
 ehrgang \n\n 	Männliche Jugend U19 und Junioren U23\n 	Frauen und Juniori
 nnen U23\n\nDer BFA-T lädt wie in den letzten Jahren zu diesem Termin ein
 !\n\nOrt:  Trainingsgelände in Goldscheuer\n\nAm:            
 22.04.2016\n\nBeginn:      10.00 Uhr\n\nCa. 12.30 Uhr  Pause mit kle
 inem Imbiss\n\nIm Anschluss findet das Länderpokalturnier statt!\n\nRück
 meldung bitte an Markus Mild bis zum 17.04.2016 damit man Planen kann!\n\n
  \n\nMit sportlichem Gruss \n\nMarkus Mild               
                Tel:07807/2058\n\n E-Mail: Markus.Mild@t-onl
 ine.de\n\n 
CATEGORIES:Ergebnis Tauziehen,Termin Tauziehen
LOCATION:Kehl-Goldscheuer Sportplatz\, Kittersburger Strasse 17-23\, Kehl-G
 oldscheuer\, Südbaden\, 77694\, Deutschland
GEO:48.50593569999999;7.826692900000012
X-APPLE-STRUCTURED-LOCATION;VALUE=URI;X-ADDRESS=Kittersburger Strasse 17-23
 \, Kehl-Goldscheuer\, Südbaden\, 77694\, Deutschland;X-APPLE-RADIUS=100;X
 -TITLE=Kehl-Goldscheuer Sportplatz:geo:48.50593569999999,7.826692900000012
END:VEVENT
BEGIN:VTIMEZONE
TZID:Europe/Berlin
X-LIC-LOCATION:Europe/Berlin
BEGIN:DAYLIGHT
DTSTART:20170326T030000
TZOFFSETFROM:+0100
TZOFFSETTO:+0200
TZNAME:CEST
END:DAYLIGHT
END:VTIMEZONE
END:VCALENDAR