BEGIN:VCALENDAR
VERSION:2.0
PRODID:-//wp-events-plugin.com//7.2.3.1//EN
TZID:Europe/Berlin
X-WR-TIMEZONE:Europe/Berlin
BEGIN:VEVENT
UID:809@drtv.de
DTSTART;TZID=Europe/Berlin:20161231T120000
DTEND;TZID=Europe/Berlin:20161231T120000
DTSTAMP:20230713T183828Z
URL:https://drtv.de/events/silvesterwerfen-des-tus-alztal-garching-4/
SUMMARY:Silvesterwerfen des TuS Alztal Garching
DESCRIPTION:[prettyfilelink size="" src="https://www.drtv.de/wp-content/upl
 oads/2016/05/Silvesterwerfen_2016-Alz_Ergebnisliste-Kurzform.htm.pdf" type
 ="pdf"]Silvesterwerfen_2016-Alz_Ergebnisliste (Kurzform).htm[/prettyfileli
 nk]\n\n[gallery ids="https://www.drtv.de/wp-content/uploads/2016/05/Alz-Si
 lv2016-CIMG0003.jpg|"]\n\n\n\nSpitzenleistungen zum Jahresende beim Silves
 terwerfen in Garching\n\n\n\nZum traditionellen Silvesterwerfen erschienen
  zahlreiche Athleten unterschiedlichster Altersklassen im Garchinger Stadi
 on. Auch heuer waren beim Wettkampf hauptsächlich Sportler des Ausrichter
 vereins am Start\, zudem wurde der Wettkampf durch zahlreiche Starter des 
 SV Achenmühle abgerundet. \n\n\nJohannes Bichler (SV Achenmühle) schloss
  seine erfolgreiche Saison 2016 mit einem 67 m Wurf ab und unterstrich sei
 ne gute Form. Insgesamt konnte er im Dreikampf 2678P. erzielen (Hammer: 67
 .71m\, Gewicht: 24.18m\, Stein: 7.85m) \n\n\nDie B-Schülerin Laurau Unüt
 zer schrammte mit 2029 P. nur um 5 P. am Deutschen Rekord vorbei. Sie erre
 ichte folgende Einzelleistungen: 37.56m im Hammerwurf\, 18.24m im Gewichtw
 urf und 8.57m im Steinstoßen.\n\n\nAm Dreikönigstag findet in Achenmühl
 e ein Hammerwurfwettkampf als Saisonauftakt statt und zu den ersten Leicht
 athletik-Ergebnissen des Jahres 2017 führen wird. An Dreikönig können s
 ich Johannes Bichler und Sebastian Staudacher\, die für den SV Achenmühl
 e im Rasenkraftsport starten\, gute Plätze auf der DLV-Bestenliste 2017 s
 ichern.\n\n\n\n(Text von Peter Huber)\n\n\n\n[prettyfilelink size="" src="
 https://www.drtv.de/wp-content/uploads/2016/05/Silvester-2016.pdf" type="p
 df"]Silvester 2016[/prettyfilelink]
CATEGORIES:Ergebnis Rasenkraftsport,Ergebnisdatei RDA liegt vor,Termin
 Rasenkraftsport
LOCATION:Garching/Alz.\, Tassilostraße 15\, Garching/Alz\, 84518\, Sportze
 ntrum am Freibad\, Deutschland
GEO:48.13635;12.597579999999993
X-APPLE-STRUCTURED-LOCATION;VALUE=URI;X-ADDRESS=Tassilostraße 15\, Garchin
 g/Alz\, 84518\, Sportzentrum am Freibad\, Deutschland;X-APPLE-RADIUS=100;X
 -TITLE=Garching/Alz.:geo:48.13635,12.597579999999993
END:VEVENT
BEGIN:VTIMEZONE
TZID:Europe/Berlin
X-LIC-LOCATION:Europe/Berlin
BEGIN:STANDARD
DTSTART:20161030T020000
TZOFFSETFROM:+0200
TZOFFSETTO:+0100
TZNAME:CET
END:STANDARD
END:VTIMEZONE
END:VCALENDAR