BEGIN:VCALENDAR
VERSION:2.0
PRODID:-//wp-events-plugin.com//7.2.3.1//EN
TZID:Europe/Berlin
X-WR-TIMEZONE:Europe/Berlin
BEGIN:VEVENT
UID:556@drtv.de
DTSTART;TZID=Europe/Berlin;VALUE=DATE:20141231
DTEND;TZID=Europe/Berlin;VALUE=DATE:20150101
DTSTAMP:20230713T183942Z
URL:https://drtv.de/events/silvesterwerfen/
SUMMARY:Silvesterwerfen
DESCRIPTION:[button url="https://www.drtv.de/wp-content/uploads/2015/01/Sil
 vesterwerfen_WK_2014_Ergebnisliste-Kurzformwrtv.html" style="white" size="
 small"] Ergebnisse Silvesterwerfen [/button]
CATEGORIES:Ergebnis Rasenkraftsport,Ergebnisdatei RDA liegt vor
LOCATION:Sindelfingen\, Werferanlage am Floschenstadion - Rosenstrasse 12\,
  Sindelfingen\, Württemberg\, 71063\, Deutschland
GEO:48.7058596;8.986750099999994
X-APPLE-STRUCTURED-LOCATION;VALUE=URI;X-ADDRESS=Werferanlage am Floschensta
 dion - Rosenstrasse 12\, Sindelfingen\, Württemberg\, 71063\, Deutschland
 ;X-APPLE-RADIUS=100;X-TITLE=Sindelfingen:geo:48.7058596,8.986750099999994
END:VEVENT
BEGIN:VTIMEZONE
TZID:Europe/Berlin
X-LIC-LOCATION:Europe/Berlin
BEGIN:STANDARD
DTSTART:20141026T020000
TZOFFSETFROM:+0200
TZOFFSETTO:+0100
TZNAME:CET
END:STANDARD
END:VTIMEZONE
END:VCALENDAR