BEGIN:VCALENDAR
VERSION:2.0
PRODID:-//wp-events-plugin.com//7.2.3.1//EN
TZID:Europe/Berlin
X-WR-TIMEZONE:Europe/Berlin
BEGIN:VEVENT
UID:144@drtv.de
DTSTART;TZID=Europe/Berlin:20121013T110000
DTEND;TZID=Europe/Berlin:20121013T110000
DTSTAMP:20230713T184207Z
URL:https://drtv.de/events/srtv-pokal-wettkampf-2-teil/
SUMMARY:SRTV-Pokal Wettkampf (2. Teil)
DESCRIPTION:[prettyfilelink src="https://www.drtv.de/wp-content/uploads/201
 2/10/SB_Pokal_2012_Ergebnisliste13102012.html" type="html"]SB_Pokal_2012_E
 rgebnisliste13102012[/prettyfilelink][prettyfilelink src="https://www.drtv
 .de/wp-content/uploads/2012/10/Ergebnisse-2ter-Südbadischer-Pokalwettkamp
 f-2012.doc" type="doc"]Ergebnisse 2ter-Südbadischer Pokalwettkampf 2012[/
 prettyfilelink][prettyfilelink src="https://www.drtv.de/wp-content/uploads
 /2012/10/Endergebnis-Südbadischer-Pokalwettkampf-2012.doc" type="doc"]End
 ergebnis Südbadischer Pokalwettkampf 2012[/prettyfilelink][prettyfilelink
  src="https://www.drtv.de/wp-content/uploads/2012/10/Ausschreibung_2012_SR
 TV-Pokal_Langenbrand.pdf" type="pdf"]Ausschreibung_2012_SRTV-Pokal_Langenb
 rand[/prettyfilelink]
CATEGORIES:Ergebnis Rasenkraftsport,Termin Rasenkraftsport
LOCATION:Langenbrand\, Bahnhofstrasse 9\, Forbach-Langenbrand\, 76596\, Spo
 rtplatz Langenbrand\, Deutschland
GEO:48.703715;8.35600880000004
X-APPLE-STRUCTURED-LOCATION;VALUE=URI;X-ADDRESS=Bahnhofstrasse 9\, Forbach-
 Langenbrand\, 76596\, Sportplatz Langenbrand\, Deutschland;X-APPLE-RADIUS=
 100;X-TITLE=Langenbrand:geo:48.703715,8.35600880000004
END:VEVENT
BEGIN:VTIMEZONE
TZID:Europe/Berlin
X-LIC-LOCATION:Europe/Berlin
BEGIN:DAYLIGHT
DTSTART:20120325T030000
TZOFFSETFROM:+0100
TZOFFSETTO:+0200
TZNAME:CEST
END:DAYLIGHT
END:VTIMEZONE
END:VCALENDAR