BEGIN:VCALENDAR
VERSION:2.0
PRODID:-//wp-events-plugin.com//7.2.3.1//EN
TZID:Europe/Berlin
X-WR-TIMEZONE:Europe/Berlin
BEGIN:VEVENT
UID:497@drtv.de
DTSTART;TZID=Europe/Berlin:20141003T153000
DTEND;TZID=Europe/Berlin:20141003T153000
DTSTAMP:20230713T184007Z
URL:https://drtv.de/events/steinstosturnier-des-tv-weisel-2/
SUMMARY:Steinstoßturnier des TV Weisel
DESCRIPTION:[prettyfilelink size="" src="https://www.drtv.de/wp-content/upl
 oads/2014/09/031014-Steinstoßen-weissel.pdf" type="pdf"]031014 Steinstoß
 en weisel[/prettyfilelink][prettyfilelink size="" src="https://www.drtv.de
 /wp-content/uploads/2014/09/2014-10-03-A_Weisel.pdf" type="pdf"]2014-10-03
  A_Weisel[/prettyfilelink][prettyfilelink size="" src="https://www.drtv.de
 /wp-content/uploads/2014/09/2014-10-03-Z_Weisel.pdf" type="pdf"]2014-10-03
  Z_Weisel[/prettyfilelink]
CATEGORIES:Ergebnis Rasenkraftsport,Ergebnisdatei RDA liegt vor,Termin
 Rasenkraftsport
LOCATION:Weisel\, Sportplatz\, Jahnstraße\, Kreuzung Schulstraße\, Weisel
 \, 56348\, Deutschland
GEO:50.1158727;7.796417700000006
X-APPLE-STRUCTURED-LOCATION;VALUE=URI;X-ADDRESS=Sportplatz\, Jahnstraße\, 
 Kreuzung Schulstraße\, Weisel\, 56348\, Deutschland;X-APPLE-RADIUS=100;X-
 TITLE=Weisel:geo:50.1158727,7.796417700000006
END:VEVENT
BEGIN:VTIMEZONE
TZID:Europe/Berlin
X-LIC-LOCATION:Europe/Berlin
BEGIN:DAYLIGHT
DTSTART:20140330T030000
TZOFFSETFROM:+0100
TZOFFSETTO:+0200
TZNAME:CEST
END:DAYLIGHT
END:VTIMEZONE
END:VCALENDAR