BEGIN:VCALENDAR
VERSION:2.0
PRODID:-//wp-events-plugin.com//7.2.3.1//EN
TZID:Europe/Berlin
X-WR-TIMEZONE:Europe/Berlin
BEGIN:VEVENT
UID:143@drtv.de
DTSTART;TZID=Europe/Berlin:20121021T133000
DTEND;TZID=Europe/Berlin:20121021T160000
DTSTAMP:20230713T184208Z
URL:https://drtv.de/events/steinstoswettkampf-des-tv-hahnenbach/
SUMMARY:Steinstoßwettkampf des TV Hahnenbach
DESCRIPTION:[prettyfilelink src="https://www.drtv.de/wp-content/uploads/201
 2/10/2012_10Okt_21_Ergebnisliste.htm" type="html"]2012_10Okt_21_Ergebnisli
 ste[/prettyfilelink][prettyfilelink src="https://www.drtv.de/wp-content/up
 loads/2012/10/Steinstoßwettkampf_Hahnenbach_2012.pdf" type="pdf"]Steinsto
 ßwettkampf_Hahnenbach_2012[/prettyfilelink]
CATEGORIES:Ergebnis Rasenkraftsport,Termin Rasenkraftsport
LOCATION:Hahnenbach\, Hahnenbacher Straße/K2\, Hahnenbach\, Rheinland Pfal
 z\, 55606\, Bad Kreuznach\, Deutschland
GEO:49.81683169999999;7.431839200000013
X-APPLE-STRUCTURED-LOCATION;VALUE=URI;X-ADDRESS=Hahnenbacher Straße/K2\, H
 ahnenbach\, Rheinland Pfalz\, 55606\, Bad Kreuznach\, Deutschland;X-APPLE-
 RADIUS=100;X-TITLE=Hahnenbach:geo:49.81683169999999,7.431839200000013
END:VEVENT
BEGIN:VTIMEZONE
TZID:Europe/Berlin
X-LIC-LOCATION:Europe/Berlin
BEGIN:DAYLIGHT
DTSTART:20120325T030000
TZOFFSETFROM:+0100
TZOFFSETTO:+0200
TZNAME:CEST
END:DAYLIGHT
END:VTIMEZONE
END:VCALENDAR