BEGIN:VCALENDAR
VERSION:2.0
PRODID:-//wp-events-plugin.com//7.2.3.1//EN
TZID:Europe/Berlin
X-WR-TIMEZONE:Europe/Berlin
BEGIN:VEVENT
UID:557@drtv.de
DTSTART;TZID=Europe/Berlin;VALUE=DATE:20150912
DTEND;TZID=Europe/Berlin;VALUE=DATE:20150914
DTSTAMP:20230713T183941Z
URL:https://drtv.de/events/suddeutsche-meisterschaften-3/
SUMMARY:Süddeutsche Meisterschaften
DESCRIPTION:[prettyfilelink size="" src="https://www.drtv.de/wp-content/upl
 oads/2015/01/Sddt-Dischingen-12092015_Ergebnisliste-Kurzform1.htm" type="h
 tml"]Ergebnisse 120915Süddt-RKS_2015[/prettyfilelink][prettyfilelink size
 ="" src="https://www.drtv.de/wp-content/uploads/2015/01/Sddt-Dischingen-13
 092015_Ergebnisliste-Kurzform.htm" type="html"]Ergebnisse 130915 Süddt-R
 KS_2015[/prettyfilelink][prettyfilelink size="" src="https://www.drtv.de/w
 p-content/uploads/2015/01/Sddt-Dischingen-12092015_Teilnehmerliste.htm" ty
 pe="pdf"]Teilnehmer Süddt-RKS_2015[/prettyfilelink][prettyfilelink size="
 " src="https://www.drtv.de/wp-content/uploads/2015/01/Süddt-RKS_2015.pdf"
  type="pdf"]Süddt-RKS_2015[/prettyfilelink]
CATEGORIES:Ergebnis Rasenkraftsport,Termin Rasenkraftsport
LOCATION:Dischingen\, Turnstraße 5\, Dischingen\, Baden-Württemberg\, 895
 61\, Werferplatz (an Egauhalle)\, Deutschland
GEO:48.69521;10.361009999999964
X-APPLE-STRUCTURED-LOCATION;VALUE=URI;X-ADDRESS=Turnstraße 5\, Dischingen\
 , Baden-Württemberg\, 89561\, Werferplatz (an Egauhalle)\, Deutschland;X-
 APPLE-RADIUS=100;X-TITLE=Dischingen:geo:48.69521,10.361009999999964
END:VEVENT
BEGIN:VTIMEZONE
TZID:Europe/Berlin
X-LIC-LOCATION:Europe/Berlin
BEGIN:DAYLIGHT
DTSTART:20150329T030000
TZOFFSETFROM:+0100
TZOFFSETTO:+0200
TZNAME:CEST
END:DAYLIGHT
END:VTIMEZONE
END:VCALENDAR