BEGIN:VCALENDAR
VERSION:2.0
PRODID:-//wp-events-plugin.com//7.2.3.1//EN
TZID:Europe/Berlin
X-WR-TIMEZONE:Europe/Berlin
BEGIN:VEVENT
UID:794@drtv.de
DTSTART;TZID=Europe/Berlin;VALUE=DATE:20160924
DTEND;TZID=Europe/Berlin;VALUE=DATE:20160926
DTSTAMP:20230713T183833Z
URL:https://drtv.de/events/sueddeutsche-meisterschaften-rasenkraftsport-al
 le-altersklassen-in-langenbrand/
SUMMARY:Süddeutsche Meisterschaften Rasenkraftsport alle Altersklassen in 
 Langenbrand
DESCRIPTION:[prettyfilelink size="" src="https://www.drtv.de/wp-content/upl
 oads/2016/03/Süddeutsche-Meisterschaften-Sonntag_Ergebnisliste-Kurzform.h
 tm.pdf" type="pdf"]sueddeutsche-meisterschaften-sonntag_ergebnisliste-kurz
 form-htm[/prettyfilelink]\n\n[prettyfilelink size="" src="https://www.drtv
 .de/wp-content/uploads/2016/03/Süddeutsche-Meisterschaften-Samstag_Ergebn
 isliste-Kurzform.htm.pdf" type="pdf"]sueddeutsche-meisterschaften-samstag_
 ergebnisliste-kurzform-htm[/prettyfilelink]\n\n[prettyfilelink size="" src
 ="https://www.drtv.de/wp-content/uploads/2016/03/Süddeutsche-Meisterschaf
 ten_Teilnehmerliste.htm-1.pdf" type="pdf"]sueddeutsche-meisterschaften_tei
 lnehmerliste-htm[/prettyfilelink]\n\n[prettyfilelink size="" src="https://
 www.drtv.de/wp-content/uploads/2016/03/Ausschreibung-2016-09-2425-S�ddeu
 tsche-Meisterschaft-Langenbrand.pdf" type="pdf"]Ausschreibung 2016-09-24+2
 5 Süddeutsche-Meisterschaft Langenbrand[/prettyfilelink]
CATEGORIES:Ergebnis Rasenkraftsport,Ergebnisdatei RDA liegt vor,Termin
 Rasenkraftsport
LOCATION:Langenbrand\, Bahnhofstrasse 9\, Forbach-Langenbrand\, 76596\, Spo
 rtplatz Langenbrand\, Deutschland
GEO:48.703715;8.35600880000004
X-APPLE-STRUCTURED-LOCATION;VALUE=URI;X-ADDRESS=Bahnhofstrasse 9\, Forbach-
 Langenbrand\, 76596\, Sportplatz Langenbrand\, Deutschland;X-APPLE-RADIUS=
 100;X-TITLE=Langenbrand:geo:48.703715,8.35600880000004
END:VEVENT
BEGIN:VTIMEZONE
TZID:Europe/Berlin
X-LIC-LOCATION:Europe/Berlin
BEGIN:DAYLIGHT
DTSTART:20160327T030000
TZOFFSETFROM:+0100
TZOFFSETTO:+0200
TZNAME:CEST
END:DAYLIGHT
END:VTIMEZONE
END:VCALENDAR