BEGIN:VCALENDAR
VERSION:2.0
PRODID:-//wp-events-plugin.com//7.2.3.1//EN
TZID:Europe/Berlin
X-WR-TIMEZONE:Europe/Berlin
BEGIN:VEVENT
UID:1001@drtv.de
DTSTART;TZID=Europe/Berlin:20180915T090000
DTEND;TZID=Europe/Berlin:20180915T190000
DTSTAMP:20230713T183700Z
URL:https://drtv.de/events/sueddeutsche-rks-aktive/
SUMMARY:Süddeutsche Meisterschaften Aktive und Senioren
DESCRIPTION:[prettyfilelink size="" src="https://www.drtv.de/wp-content/upl
 oads/2017/11/2018-Sueddeutsche-Zuchering_Ergebnisliste.pdf" type="pdf"]201
 8-Sueddeutsche-Zuchering_Ergebnisliste[/prettyfilelink]\n\n[prettyfilelink
  size="" src="https://www.drtv.de/wp-content/uploads/2014/07/BRTV-Ausschre
 ibung2018-SüddeutscheAktiveSenioren.pdf" type="pdf"]BRTV-Ausschreibung201
 8-SüddeutscheAktiveSenioren (Stand 02.07.2018)[/prettyfilelink]\n\n[prett
 yfilelink size="" src="https://www.drtv.de/wp-content/uploads/2017/11/Süd
 deutsche2018-Teilnehmer-Zuchering-5.pdf" type="pdf"]Süddeutsche2018-Teiln
 ehmer-Zuchering[/prettyfilelink]\n\nAufgrund der Teilnehmerzahlen kann es 
 zu Zeitverschiebungen kommen. Wiegezeiten bleiben gleich.\n\n[prettyfileli
 nk size="" src="https://www.drtv.de/wp-content/uploads/2017/11/ZeitplanUnd
 Gruppeneinteilung.pdf" type="pdf"]Zeitplan und Gruppeneinteilung[/prettyfi
 lelink]\n\nBitte Beachten: Die Zeiten Wettkampf Beginn sind für die Grupp
 en 2\,3\,4 nur Orientierungspunkte. Es kann sein\, dass wir bis zu 60 Minu
 ten eher Beginnen.
CATEGORIES:Ergebnis Rasenkraftsport,Ergebnisdatei RDA liegt vor,Termin
 Rasenkraftsport,Termin Rasenkraftsport + Ausschr.
LOCATION:Zuchering\, Seeweg 17\, Ingolstadt-Zuchering\, 85051\, Deutschland
GEO:48.71538;11.411849999999959
X-APPLE-STRUCTURED-LOCATION;VALUE=URI;X-ADDRESS=Seeweg 17\, Ingolstadt-Zuch
 ering\, 85051\, Deutschland;X-APPLE-RADIUS=100;X-TITLE=Zuchering:geo:48.71
 538,11.411849999999959
END:VEVENT
BEGIN:VTIMEZONE
TZID:Europe/Berlin
X-LIC-LOCATION:Europe/Berlin
BEGIN:DAYLIGHT
DTSTART:20180325T030000
TZOFFSETFROM:+0100
TZOFFSETTO:+0200
TZNAME:CEST
END:DAYLIGHT
END:VTIMEZONE
END:VCALENDAR