BEGIN:VCALENDAR
VERSION:2.0
PRODID:-//wp-events-plugin.com//7.2.3.1//EN
TZID:Europe/Berlin
X-WR-TIMEZONE:Europe/Berlin
BEGIN:VEVENT
UID:1491@drtv.de
DTSTART;TZID=Europe/Berlin:20210918T000000
DTEND;TZID=Europe/Berlin:20210919T000000
DTSTAMP:20230713T183342Z
URL:https://drtv.de/events/sueddt-meisterschaften/
SUMMARY:Süddt. Meisterschaften RKS
DESCRIPTION:Komplette Ergebnisliste (Samstag und Sonntag)\n\n[prettyfilelin
 k size="" src="https://www.drtv.de/wp-content/uploads/2021/07/SDM-2021-Dis
 chingen-2_Ergebnisliste.pdf" type="pdf"]SDM 2021 Dischingen (2)_Ergebnisli
 ste[/prettyfilelink]\n\n&nbsp\;\n\n[prettyfilelink size="" src="https://ww
 w.drtv.de/wp-content/uploads/2021/07/SDM-2021-Dischingen_Teilnehmerliste-1
 .pdf" type="pdf"]SDM 2021 Dischingen_Teilnehmerliste[/prettyfilelink]\n\nA
 usschreibung:\n\n[prettyfilelink size="" src="https://www.drtv.de/wp-conte
 nt/uploads/2021/07/Sueddt-RKS_2021-1.pdf" type="pdf"]Süddt-RKS_2021 1[/pr
 ettyfilelink]
CATEGORIES:Ergebnis Rasenkraftsport,Ergebnisdatei RDA liegt vor,Termin
 Rasenkraftsport,Termin Rasenkraftsport + Ausschr.
LOCATION:Dischingen\, Turnstraße 5\, Dischingen\, Baden-Württemberg\, 895
 61\, Werferplatz (an Egauhalle)\, Deutschland
GEO:48.69521;10.361009999999964
X-APPLE-STRUCTURED-LOCATION;VALUE=URI;X-ADDRESS=Turnstraße 5\, Dischingen\
 , Baden-Württemberg\, 89561\, Werferplatz (an Egauhalle)\, Deutschland;X-
 APPLE-RADIUS=100;X-TITLE=Dischingen:geo:48.69521,10.361009999999964
END:VEVENT
BEGIN:VTIMEZONE
TZID:Europe/Berlin
X-LIC-LOCATION:Europe/Berlin
BEGIN:DAYLIGHT
DTSTART:20210328T030000
TZOFFSETFROM:+0100
TZOFFSETTO:+0200
TZNAME:CEST
END:DAYLIGHT
END:VTIMEZONE
END:VCALENDAR