BEGIN:VCALENDAR
VERSION:2.0
PRODID:-//wp-events-plugin.com//7.2.3.1//EN
TZID:Europe/Berlin
X-WR-TIMEZONE:Europe/Berlin
BEGIN:VEVENT
UID:1169@drtv.de
DTSTART;TZID=Europe/Berlin;VALUE=DATE:20190804
DTEND;TZID=Europe/Berlin;VALUE=DATE:20190805
DTSTAMP:20230713T183606Z
URL:https://drtv.de/events/tauziehen-bundesliga-finale-in-schoenau-boellen
 /
SUMMARY:Tauziehen Bundesliga-Finale in Schönau (Böllen)
DESCRIPTION:Final-Ergebnis:\n\n[prettyfilelink size="" src="https://www.drt
 v.de/wp-content/uploads/2018/12/2019_Bundesliga_4WK_Boellen_Turnierliste.p
 df" type="pdf"]2019_Bundesliga_4WK_Boellen_Turnierliste[/prettyfilelink]\n
 \n\n\n&nbsp\;\n\n[prettyfilelink size="" src="https://www.drtv.de/wp-conte
 nt/uploads/2018/12/Neuer-Tauziehplatz-Schönau-v.-TZFr-Böllen-Anfahrtsbes
 chreibung.pdf" type="pdf"]Neuer Tauziehplatz Schönau v. TZFr Böllen - An
 fahrtsbeschreibung[/prettyfilelink]
CATEGORIES:Ergebnis Tauziehen,Termin Tauziehen
LOCATION:Kirchzarten - TZF Dietenbach\, Dietenbach 17\, Kirchzarten\, Südb
 aden\, 79199\, Deutschland
GEO:47.95931;7.950298
X-APPLE-STRUCTURED-LOCATION;VALUE=URI;X-ADDRESS=Dietenbach 17\, Kirchzarten
 \, Südbaden\, 79199\, Deutschland;X-APPLE-RADIUS=100;X-TITLE=Kirchzarten 
 - TZF Dietenbach:geo:47.95931,7.950298
END:VEVENT
BEGIN:VTIMEZONE
TZID:Europe/Berlin
X-LIC-LOCATION:Europe/Berlin
BEGIN:DAYLIGHT
DTSTART:20190331T030000
TZOFFSETFROM:+0100
TZOFFSETTO:+0200
TZNAME:CEST
END:DAYLIGHT
END:VTIMEZONE
END:VCALENDAR