BEGIN:VCALENDAR
VERSION:2.0
PRODID:-//wp-events-plugin.com//7.2.3.1//EN
TZID:Europe/Berlin
X-WR-TIMEZONE:Europe/Berlin
BEGIN:VEVENT
UID:1166@drtv.de
DTSTART;TZID=Europe/Berlin;VALUE=DATE:20190505
DTEND;TZID=Europe/Berlin;VALUE=DATE:20190506
DTSTAMP:20230713T183609Z
URL:https://drtv.de/events/tauziehen-bundesliga-in-eschbachtal/
SUMMARY:Landesliga Südbaden in Eschbachtal-Stegen
DESCRIPTION:[prettyfilelink size="" src="https://www.drtv.de/wp-content/upl
 oads/2018/12/2019_LandesligaSuedbaden_1WK_Eschbachtal_Ergebnis.pdf" type="
 pdf"]2019_LandesligaSuedbaden_1WK_Eschbachtal_Ergebnis[/prettyfilelink]
CATEGORIES:Ergebnis Tauziehen,Termin Tauziehen
LOCATION:Stegen - TCZ Eschbachtal\, Festwiese\, Kirchzartenerstr.\, Stegen\
 , Südbaden\, 79252\, Deutschland
GEO:47.992263;7.977944
X-APPLE-STRUCTURED-LOCATION;VALUE=URI;X-ADDRESS=Festwiese\, Kirchzartenerst
 r.\, Stegen\, Südbaden\, 79252\, Deutschland;X-APPLE-RADIUS=100;X-TITLE=S
 tegen - TCZ Eschbachtal:geo:47.992263,7.977944
END:VEVENT
BEGIN:VTIMEZONE
TZID:Europe/Berlin
X-LIC-LOCATION:Europe/Berlin
BEGIN:DAYLIGHT
DTSTART:20190331T030000
TZOFFSETFROM:+0100
TZOFFSETTO:+0200
TZNAME:CEST
END:DAYLIGHT
END:VTIMEZONE
END:VCALENDAR