BEGIN:VCALENDAR
VERSION:2.0
PRODID:-//wp-events-plugin.com//7.2.3.1//EN
TZID:Europe/Berlin
X-WR-TIMEZONE:Europe/Berlin
BEGIN:VEVENT
UID:1168@drtv.de
DTSTART;TZID=Europe/Berlin;VALUE=DATE:20190623
DTEND;TZID=Europe/Berlin;VALUE=DATE:20190624
DTSTAMP:20230713T183605Z
URL:https://drtv.de/events/tauziehen-bundesliga-in-zell-im-allgaeu-2/
SUMMARY:Tauziehen Bundesliga in Zell im Allgäu
DESCRIPTION:Ergebnis:\n\n[prettyfilelink size="" src="https://www.drtv.de/w
 p-content/uploads/2018/12/2019_Bundesliga_2WK_Zell.pdf" type="pdf"]2019_Bu
 ndesliga_2WK_Zell[/prettyfilelink]
CATEGORIES:Ergebnis Tauziehen,Termin Tauziehen
LOCATION:Zell\, Wiesenweg\, Bad Grönenbach – Zell\, Bayern\, 87730\, Deu
 tschland
GEO:47.90072;10.204889999999977
X-APPLE-STRUCTURED-LOCATION;VALUE=URI;X-ADDRESS=Wiesenweg\, Bad Grönenbach
  – Zell\, Bayern\, 87730\, Deutschland;X-APPLE-RADIUS=100;X-TITLE=Zell:g
 eo:47.90072,10.204889999999977
END:VEVENT
BEGIN:VTIMEZONE
TZID:Europe/Berlin
X-LIC-LOCATION:Europe/Berlin
BEGIN:DAYLIGHT
DTSTART:20190331T030000
TZOFFSETFROM:+0100
TZOFFSETTO:+0200
TZNAME:CEST
END:DAYLIGHT
END:VTIMEZONE
END:VCALENDAR