BEGIN:VCALENDAR
VERSION:2.0
PRODID:-//wp-events-plugin.com//7.2.3.1//EN
TZID:Europe/Berlin
X-WR-TIMEZONE:Europe/Berlin
BEGIN:VEVENT
UID:1176@drtv.de
DTSTART;TZID=Europe/Berlin;VALUE=DATE:20190526
DTEND;TZID=Europe/Berlin;VALUE=DATE:20190527
DTSTAMP:20230713T183606Z
URL:https://drtv.de/events/tauziehen-landesliga-bawue-bayern-in-affalterri
 ed-2/
SUMMARY:Tauziehen Landesliga BaWü/Bayern in Affalterried
DESCRIPTION:[prettyfilelink size="" src="https://www.drtv.de/wp-content/upl
 oads/2018/12/WRTV-2019-LL-M700kg-2WK-Affalterried.pdf" type="pdf"]WRTV-201
 9-LL-M700kg-2WK-Affalterried[/prettyfilelink]\n\n[prettyfilelink size="" s
 rc="https://www.drtv.de/wp-content/uploads/2018/12/WRTV-2019-LL-M640kg-1WK
 -Affalterried.pdf" type="pdf"]WRTV-2019-LL-M640kg-1WK-Affalterried[/pretty
 filelink]\n\n[prettyfilelink size="" src="https://www.drtv.de/wp-content/u
 ploads/2018/12/WRTV-2019-LL-J-F-475kg-2WK-Affalterried.pdf" type="pdf"]WRT
 V-2019-LL-J-F-475kg-2WK-Affalterried[/prettyfilelink]\n\n&nbsp\;
CATEGORIES:Ergebnis Tauziehen,Termin Tauziehen
LOCATION:Aalen-Wasseralfingen/Affalterried\, Onatsbachstrasse 30\, Aalen-Wa
 sseralfingen\, Württemberg\, 73433\, Deutschland
GEO:48.8648732;10.072091199999931
X-APPLE-STRUCTURED-LOCATION;VALUE=URI;X-ADDRESS=Onatsbachstrasse 30\, Aalen
 -Wasseralfingen\, Württemberg\, 73433\, Deutschland;X-APPLE-RADIUS=100;X-
 TITLE=Aalen-Wasseralfingen/Affalterried:geo:48.8648732,10.072091199999931
END:VEVENT
BEGIN:VTIMEZONE
TZID:Europe/Berlin
X-LIC-LOCATION:Europe/Berlin
BEGIN:DAYLIGHT
DTSTART:20190331T030000
TZOFFSETFROM:+0100
TZOFFSETTO:+0200
TZNAME:CEST
END:DAYLIGHT
END:VTIMEZONE
END:VCALENDAR