BEGIN:VCALENDAR
VERSION:2.0
PRODID:-//wp-events-plugin.com//7.2.3.1//EN
TZID:Europe/Berlin
X-WR-TIMEZONE:Europe/Berlin
BEGIN:VEVENT
UID:1085@drtv.de
DTSTART;TZID=Europe/Berlin:20180329T000000
DTEND;TZID=Europe/Berlin:20180329T000000
DTSTAMP:20230713T183641Z
URL:https://drtv.de/events/tsg-werfertag/
SUMMARY:TSG-Werfertag
DESCRIPTION:[prettyfilelink size="" src="https://www.drtv.de/wp-content/upl
 oads/2018/03/29.03.-Ausschreibung-004.pdf" type="pdf"]29.03.-Ausschreibung
  (004)[/prettyfilelink]\n\nLeider ist nur das folgende mail eingegangen (o
 hne rda oder xml keine Weiterverarbeitung)\n\n[prettyfilelink size="" src=
 "https://www.drtv.de/wp-content/uploads/2018/04/DRTV-Rasenkraftsport-Testw
 ettkampf-im-Trainingslager-Mosbach-am-29.03.2018.pdf" type="pdf"]DRTV - Ra
 senkraftsport Testwettkampf im Trainingslager Mosbach am 29.03.2018[/prett
 yfilelink]
CATEGORIES:Ergebnis Rasenkraftsport,Termin Rasenkraftsport
LOCATION:Haßloch\, Ludwig-Gramlich-Straße 1\, Haßloch\, Rheinland-Pfalz\
 , 67454\, Bad Dürkheim\, Deutschland
GEO:49.34759;8.247650000000021
X-APPLE-STRUCTURED-LOCATION;VALUE=URI;X-ADDRESS=Ludwig-Gramlich-Straße 1\,
  Haßloch\, Rheinland-Pfalz\, 67454\, Bad Dürkheim\, Deutschland;X-APPLE-
 RADIUS=100;X-TITLE=Haßloch:geo:49.34759,8.247650000000021
END:VEVENT
BEGIN:VTIMEZONE
TZID:Europe/Berlin
X-LIC-LOCATION:Europe/Berlin
BEGIN:DAYLIGHT
DTSTART:20180325T030000
TZOFFSETFROM:+0100
TZOFFSETTO:+0200
TZNAME:CEST
END:DAYLIGHT
END:VTIMEZONE
END:VCALENDAR