BEGIN:VCALENDAR
VERSION:2.0
PRODID:-//wp-events-plugin.com//7.2.3.1//EN
TZID:Europe/Berlin
X-WR-TIMEZONE:Europe/Berlin
BEGIN:VEVENT
UID:853@drtv.de
DTSTART;TZID=Europe/Berlin;VALUE=DATE:20170217
DTEND;TZID=Europe/Berlin;VALUE=DATE:20170219
DTSTAMP:20230713T183756Z
URL:https://drtv.de/events/ttv-lagerweij-30-jahre-indoor-turnier-internati
 onal/
SUMMARY:TTV Lagerweij 30 Jahre Indoor Turnier international
DESCRIPTION:TTV Lagerweij 30 Jahre Indoor Turnier international in Renswoud
 e\n\n&nbsp\;\n\n\n\n\n\n\n
CATEGORIES:Termin Tauziehen
END:VEVENT
BEGIN:VTIMEZONE
TZID:Europe/Berlin
X-LIC-LOCATION:Europe/Berlin
BEGIN:STANDARD
DTSTART:20161030T020000
TZOFFSETFROM:+0200
TZOFFSETTO:+0100
TZNAME:CET
END:STANDARD
END:VTIMEZONE
END:VCALENDAR