BEGIN:VCALENDAR
VERSION:2.0
PRODID:-//wp-events-plugin.com//7.2.3.1//EN
TZID:Europe/Berlin
X-WR-TIMEZONE:Europe/Berlin
BEGIN:VEVENT
UID:808@drtv.de
DTSTART;TZID=Europe/Berlin:20161112T120000
DTEND;TZID=Europe/Berlin:20161112T120000
DTSTAMP:20230713T183828Z
URL:https://drtv.de/events/tus-alztal-garching-offene-vereinsmeisterschaft
 en/
SUMMARY:TuS Alztal Garching - Offene Vereinsmeisterschaften
DESCRIPTION:[prettyfilelink size="" src="https://www.drtv.de/wp-content/upl
 oads/2016/05/Vereinsmeisterschaften_2016_Ergebnisliste-Kurzform.htm.pdf" t
 ype="pdf"]vereinsmeisterschaften_2016_ergebnisliste-kurzform-htm[/prettyfi
 lelink]\n\n[prettyfilelink size="" src="https://www.drtv.de/wp-content/upl
 oads/2016/05/Offene-Vereinsmeisterschaften-2016.pdf" type="pdf"]Offene Ver
 einsmeisterschaften 2016[/prettyfilelink]
CATEGORIES:Ergebnis Rasenkraftsport,Ergebnisdatei RDA liegt vor,Termin
 Rasenkraftsport
LOCATION:Garching/Alz.\, Tassilostraße 15\, Garching/Alz\, 84518\, Sportze
 ntrum am Freibad\, Deutschland
GEO:48.13635;12.597579999999993
X-APPLE-STRUCTURED-LOCATION;VALUE=URI;X-ADDRESS=Tassilostraße 15\, Garchin
 g/Alz\, 84518\, Sportzentrum am Freibad\, Deutschland;X-APPLE-RADIUS=100;X
 -TITLE=Garching/Alz.:geo:48.13635,12.597579999999993
END:VEVENT
BEGIN:VTIMEZONE
TZID:Europe/Berlin
X-LIC-LOCATION:Europe/Berlin
BEGIN:STANDARD
DTSTART:20161030T020000
TZOFFSETFROM:+0200
TZOFFSETTO:+0100
TZNAME:CET
END:STANDARD
END:VTIMEZONE
END:VCALENDAR