BEGIN:VCALENDAR
VERSION:2.0
PRODID:-//wp-events-plugin.com//7.2.3.1//EN
TZID:Europe/Berlin
X-WR-TIMEZONE:Europe/Berlin
BEGIN:VEVENT
UID:1019@drtv.de
DTSTART;TZID=Europe/Berlin;VALUE=DATE:20180426
DTEND;TZID=Europe/Berlin;VALUE=DATE:20180430
DTSTAMP:20230713T183655Z
URL:https://drtv.de/events/twif-kongess-cork-irland/
SUMMARY:TWIF-Kongess\, Cork\, Irland
DESCRIPTION:Vertreter des BFA-T nehmer am Kongress teil.
CATEGORIES:Termin Tauziehen
END:VEVENT
BEGIN:VTIMEZONE
TZID:Europe/Berlin
X-LIC-LOCATION:Europe/Berlin
BEGIN:DAYLIGHT
DTSTART:20180325T030000
TZOFFSETFROM:+0100
TZOFFSETTO:+0200
TZNAME:CEST
END:DAYLIGHT
END:VTIMEZONE
END:VCALENDAR