BEGIN:VCALENDAR
VERSION:2.0
PRODID:-//wp-events-plugin.com//7.2.3.1//EN
TZID:Europe/Berlin
X-WR-TIMEZONE:Europe/Berlin
BEGIN:VEVENT
UID:913@drtv.de
DTSTART;TZID=Europe/Berlin;VALUE=DATE:20170318
DTEND;TZID=Europe/Berlin;VALUE=DATE:20170319
DTSTAMP:20230713T183744Z
URL:https://drtv.de/events/tz-kampfrichter-weiterbildung-in-ostfildern/
SUMMARY:TZ-Kampfrichter-Weiterbildung in Ostfildern
DESCRIPTION:Einladung zur Kampfrichterweiterbildung 2017\n\nam 18. März 20
 17 von 10.00- 14.00 Uhr in Ostfildern\n\n&nbsp\;\n\nAdresse: \n\nTV Nellin
 gen\n\nRestaurant "Villa Lucia"\n\nAn der Akademie 4\n\n73760 Ostfildern\n
 \n&nbsp\;\n\nDa die letzten KR- Weiterbildungen immer in Baden stattfanden
  treffen wir uns diesesmal in Württemberg.\n\nVon Südbaden aus bitte geg
 enseitig absprechen zum gemeinsamen Fahren.\n\n&nbsp\;\n\nFür KR Grad 2 i
 st dies die Pflichtverantaltung zur Lizenzverlängerung!! \n\nAlle KR Grad
  3 werden ebenfalls aufgefordert unbedingt daran teilzunehmen!!\n\n(Einlad
 ung erfolgt über die KR-Obmänner der Landesverbände)\n\nEine Nichtteiln
 ahme ist nur in begründeten Fällen in direkter Absprache mit dem KR-Obma
 nn BFA-T zulässig.\n\nTagesordnung\n\n 	 Begrüßung\n 	 Regelkunde WKO-T
 \n 	 Anwendungs- und Handhabungsregelung\n 	 gemeinsames Mittagessen\n 	 A
 ktuelle Entwicklungen im Tauziehen\n 	 Wahl Mitglieder Kampfrichterkommiss
 ion\n 	 Erfahrungsaustausch\n\nMit sportlichem Gruß\n\nRalf Bräuninger\n
 \nKR-Obmann BFA-T
CATEGORIES:Termin Tauziehen
END:VEVENT
BEGIN:VTIMEZONE
TZID:Europe/Berlin
X-LIC-LOCATION:Europe/Berlin
BEGIN:STANDARD
DTSTART:20161030T020000
TZOFFSETFROM:+0200
TZOFFSETTO:+0100
TZNAME:CET
END:STANDARD
END:VTIMEZONE
END:VCALENDAR