BEGIN:VCALENDAR
VERSION:2.0
PRODID:-//wp-events-plugin.com//7.2.3.1//EN
TZID:Europe/Berlin
X-WR-TIMEZONE:Europe/Berlin
BEGIN:VEVENT
UID:1103@drtv.de
DTSTART;TZID=Europe/Berlin:20180526T000000
DTEND;TZID=Europe/Berlin:20180526T000000
DTSTAMP:20230713T183638Z
URL:https://drtv.de/events/vellmar-rks-hammerwurfturnier/
SUMMARY:Vellmar-RKS-Hammerwurfturnier
DESCRIPTION:[prettyfilelink size="" src="https://www.drtv.de/wp-content/upl
 oads/2018/05/2018-05-26-Hammerturnier_Ergebnisliste.pdf" type="pdf"]2018-0
 5-26--Hammerturnier_Ergebnisliste[/prettyfilelink]\n\n&nbsp\;\n\n[prettyfi
 lelink size="" src="https://www.drtv.de/wp-content/uploads/2018/05/2018-05
 -26-Vellmar-RKS-Hammerwurfturnier.pdf" type="pdf"]2018-05-26-Vellmar-RKS-H
 ammerwurfturnier[/prettyfilelink]
CATEGORIES:Ergebnis Rasenkraftsport,Ergebnisdatei RDA liegt vor,Termin
 Rasenkraftsport
LOCATION:Vellmar\, Breiter Stein\, Vellmar\, 34246\, Deutschland
GEO:51.3722;9.487719999999967
X-APPLE-STRUCTURED-LOCATION;VALUE=URI;X-ADDRESS=Breiter Stein\, Vellmar\, 3
 4246\, Deutschland;X-APPLE-RADIUS=100;X-TITLE=Vellmar:geo:51.3722,9.487719
 999999967
END:VEVENT
BEGIN:VTIMEZONE
TZID:Europe/Berlin
X-LIC-LOCATION:Europe/Berlin
BEGIN:DAYLIGHT
DTSTART:20180325T030000
TZOFFSETFROM:+0100
TZOFFSETTO:+0200
TZNAME:CEST
END:DAYLIGHT
END:VTIMEZONE
END:VCALENDAR