BEGIN:VCALENDAR
VERSION:2.0
PRODID:-//wp-events-plugin.com//7.2.3.1//EN
TZID:Europe/Berlin
X-WR-TIMEZONE:Europe/Berlin
BEGIN:VEVENT
UID:84@drtv.de
DTSTART;TZID=Europe/Berlin:20120311T000000
DTEND;TZID=Europe/Berlin:20120311T000000
DTSTAMP:20230713T184225Z
URL:https://drtv.de/events/werfertag-15/
SUMMARY:Werfertag
DESCRIPTION:
CATEGORIES:Termin Rasenkraftsport
LOCATION:Lennestadion -Werferplatz-Plettenberg\, Am Hallenbad 6\, Plettenbe
 rg\, 58840\, NRW\, Deutschland
GEO:51.23207;7.860159999999951
X-APPLE-STRUCTURED-LOCATION;VALUE=URI;X-ADDRESS=Am Hallenbad 6\, Plettenber
 g\, 58840\, NRW\, Deutschland;X-APPLE-RADIUS=100;X-TITLE=Lennestadion -Wer
 ferplatz-Plettenberg:geo:51.23207,7.860159999999951
END:VEVENT
BEGIN:VTIMEZONE
TZID:Europe/Berlin
X-LIC-LOCATION:Europe/Berlin
BEGIN:STANDARD
DTSTART:20111030T020000
TZOFFSETFROM:+0200
TZOFFSETTO:+0100
TZNAME:CET
END:STANDARD
END:VTIMEZONE
END:VCALENDAR