BEGIN:VCALENDAR
VERSION:2.0
PRODID:-//wp-events-plugin.com//7.2.3.1//EN
TZID:Europe/Berlin
X-WR-TIMEZONE:Europe/Berlin
BEGIN:VEVENT
UID:83@drtv.de
DTSTART;TZID=Europe/Berlin;VALUE=DATE:20120311
DTEND;TZID=Europe/Berlin;VALUE=DATE:20120312
DTSTAMP:20230713T184225Z
URL:https://drtv.de/events/werfertag-17/
SUMMARY:RKS Turnier
DESCRIPTION:[prettyfilelink src="https://www.drtv.de/wp-content/uploads/201
 2/05/Waiblingen_11.03.2012_Ergebnisliste.htm" type="html"]Waiblingen_11.03
 .2012_Ergebnisliste[/prettyfilelink][prettyfilelink src="https://www.drtv.
 de/wp-content/uploads/2012/05/Waiblingen_11.03.2012.rda" type="zip"]Waibli
 ngen_11.03.2012_Ergebnisse.rda[/prettyfilelink]
CATEGORIES:Ergebnis Rasenkraftsport,Termin Rasenkraftsport
LOCATION:Waiblingen\, Oberer Ring 1\, Waiblingen\, 71332\, VfL Stadion und 
 Wurfanlage\, Deutschland
GEO:48.8249771;9.328668500000048
X-APPLE-STRUCTURED-LOCATION;VALUE=URI;X-ADDRESS=Oberer Ring 1\, Waiblingen\
 , 71332\, VfL Stadion und Wurfanlage\, Deutschland;X-APPLE-RADIUS=100;X-TI
 TLE=Waiblingen:geo:48.8249771,9.328668500000048
END:VEVENT
BEGIN:VTIMEZONE
TZID:Europe/Berlin
X-LIC-LOCATION:Europe/Berlin
BEGIN:STANDARD
DTSTART:20111030T020000
TZOFFSETFROM:+0200
TZOFFSETTO:+0100
TZNAME:CET
END:STANDARD
END:VTIMEZONE
END:VCALENDAR