BEGIN:VCALENDAR
VERSION:2.0
PRODID:-//wp-events-plugin.com//7.2.3.1//EN
TZID:Europe/Berlin
X-WR-TIMEZONE:Europe/Berlin
BEGIN:VEVENT
UID:916@drtv.de
DTSTART;TZID=Europe/Berlin:20170326T000000
DTEND;TZID=Europe/Berlin:20170326T000000
DTSTAMP:20230713T183744Z
URL:https://drtv.de/events/werfertag-2017-in-plettenberg/
SUMMARY:Werfertag 2017 in Plettenberg
DESCRIPTION:[prettyfilelink size="" src="https://www.drtv.de/wp-content/upl
 oads/2017/03/Werfertag-26032017_Ergebnisliste_Ergebnisliste-Kurzform.pdf" 
 type="pdf"]Werfertag 26032017_Ergebnisliste_Ergebnisliste (Kurzform)[/pret
 tyfilelink]\n\n[prettyfilelink size="" src="https://www.drtv.de/wp-content
 /uploads/2017/03/Terminplan-TVGr-2017-1.pdf" type="pdf"]Terminplan-TVGr-20
 17-1[/prettyfilelink]
CATEGORIES:Ergebnis Rasenkraftsport,Ergebnisdatei RDA liegt vor,Termin
 Rasenkraftsport
LOCATION:Plettenberg\, Am Hallenbad 6\, Plettenberg\, 58840\, Deutschland
GEO:51.23207;7.860159999999951
X-APPLE-STRUCTURED-LOCATION;VALUE=URI;X-ADDRESS=Am Hallenbad 6\, Plettenber
 g\, 58840\, Deutschland;X-APPLE-RADIUS=100;X-TITLE=Plettenberg:geo:51.2320
 7,7.860159999999951
END:VEVENT
BEGIN:VTIMEZONE
TZID:Europe/Berlin
X-LIC-LOCATION:Europe/Berlin
BEGIN:STANDARD
DTSTART:20161030T020000
TZOFFSETFROM:+0200
TZOFFSETTO:+0100
TZNAME:CET
END:STANDARD
END:VTIMEZONE
END:VCALENDAR