BEGIN:VCALENDAR
VERSION:2.0
PRODID:-//wp-events-plugin.com//7.2.3.1//EN
TZID:Europe/Berlin
X-WR-TIMEZONE:Europe/Berlin
BEGIN:VEVENT
UID:150@drtv.de
DTSTART;TZID=Europe/Berlin;VALUE=DATE:20121017
DTEND;TZID=Europe/Berlin;VALUE=DATE:20121018
DTSTAMP:20230713T184206Z
URL:https://drtv.de/events/werfertag-22/
SUMMARY:Werfertag
DESCRIPTION:[prettyfilelink src="https://www.drtv.de/wp-content/uploads/201
 2/10/Ergebnisliste_Hammerwurfturnier_17_10_2012_Flemlingen.pdf" type="pdf"
 ]Ergebnisliste_Hammerwurfturnier_17_10_2012_Flemlingen[/prettyfilelink]
CATEGORIES:Ergebnis Rasenkraftsport,Termin Rasenkraftsport
LOCATION:Flemlingen Wurfplatz\, '+49° 14' 46.71"\, +8° 6' 3.17" (49.24630
 7\, 8.100880)\, Flemlingen\, 76835\, Deutschland
GEO:49.24641622186635;8.10066319475095
X-APPLE-STRUCTURED-LOCATION;VALUE=URI;X-ADDRESS='+49° 14' 46.71\"\, +8° 6
 ' 3.17\" (49.246307\, 8.100880)\, Flemlingen\, 76835\, Deutschland;X-APPLE
 -RADIUS=100;X-TITLE=Flemlingen Wurfplatz:geo:49.24641622186635,8.100663194
 75095
END:VEVENT
BEGIN:VTIMEZONE
TZID:Europe/Berlin
X-LIC-LOCATION:Europe/Berlin
BEGIN:DAYLIGHT
DTSTART:20120325T030000
TZOFFSETFROM:+0100
TZOFFSETTO:+0200
TZNAME:CEST
END:DAYLIGHT
END:VTIMEZONE
END:VCALENDAR