BEGIN:VCALENDAR
VERSION:2.0
PRODID:-//wp-events-plugin.com//7.2.3.1//EN
TZID:Europe/Berlin
X-WR-TIMEZONE:Europe/Berlin
BEGIN:VEVENT
UID:623@drtv.de
DTSTART;TZID=Europe/Berlin:20150503T131500
DTEND;TZID=Europe/Berlin:20150503T131500
DTSTAMP:20230713T183925Z
URL:https://drtv.de/events/werfertag-des-sav-kassel-4/
SUMMARY:Werfertag des SAV Kassel
DESCRIPTION:[prettyfilelink size="" src="https://www.drtv.de/wp-content/upl
 oads/2015/04/03.05.2015-Turnier_Ergebnisliste-SAV-Kasse.htm" type="html"]E
 rgebnisliste Werfertag SAV Kassel 3.Mai2015[/prettyfilelink][prettyfilelin
 k size="" src="https://www.drtv.de/wp-content/uploads/2015/04/03.05.2015_E
 rgebnisliste-Dreikampf.htm" type="html"]Ergebnissliste Dreikampf SAV Kasse
 l 3.Mai2015[/prettyfilelink][prettyfilelink size="" src="https://www.drtv.
 de/wp-content/uploads/2015/04/Werfertag-03.5.15.pdf" type="pdf"]Werfertag 
 03.5.15[/prettyfilelink]
CATEGORIES:Ergebnis Rasenkraftsport,Ergebnisdatei RDA liegt vor,Termin
 Rasenkraftsport
LOCATION:Kassel\, Am Auestadion\, Kassel\, Hessen\, 34121\, Deutschland
GEO:51.2977512;9.48186110000006
X-APPLE-STRUCTURED-LOCATION;VALUE=URI;X-ADDRESS=Am Auestadion\, Kassel\, He
 ssen\, 34121\, Deutschland;X-APPLE-RADIUS=100;X-TITLE=Kassel:geo:51.297751
 2,9.48186110000006
END:VEVENT
BEGIN:VTIMEZONE
TZID:Europe/Berlin
X-LIC-LOCATION:Europe/Berlin
BEGIN:DAYLIGHT
DTSTART:20150329T030000
TZOFFSETFROM:+0100
TZOFFSETTO:+0200
TZNAME:CEST
END:DAYLIGHT
END:VTIMEZONE
END:VCALENDAR