BEGIN:VCALENDAR
VERSION:2.0
PRODID:-//wp-events-plugin.com//7.2.3.1//EN
TZID:Europe/Berlin
X-WR-TIMEZONE:Europe/Berlin
BEGIN:VEVENT
UID:380@drtv.de
DTSTART;TZID=Europe/Berlin:20140316T103000
DTEND;TZID=Europe/Berlin:20140316T103000
DTSTAMP:20230713T184038Z
URL:https://drtv.de/events/werfertag-des-tv-grunenthal-7/
SUMMARY:Werfertag des TV Grünenthal
DESCRIPTION:&nbsp\;\n\n[button url="https://www.drtv.de/wp-content/uploads/
 2014/01/Werfertag-16032014_Ergebnisliste-Plettenberg.htm" style="white" si
 ze="small"] Ergebnisse Plettenberg [/button][prettyfilelink src="https://w
 ww.drtv.de/wp-content/uploads/2014/01/Terminplan-2014-1.-Halbjahr1.doc" ty
 pe="doc"]Terminplan 2014 1. Halbjahr[/prettyfilelink]
CATEGORIES:Ergebnis Rasenkraftsport,Ergebnisdatei RDA liegt vor,Termin
 Rasenkraftsport
LOCATION:Lennestadion -Werferplatz-Plettenberg\, Am Hallenbad 6\, Plettenbe
 rg\, 58840\, NRW\, Deutschland
GEO:51.23207;7.860159999999951
X-APPLE-STRUCTURED-LOCATION;VALUE=URI;X-ADDRESS=Am Hallenbad 6\, Plettenber
 g\, 58840\, NRW\, Deutschland;X-APPLE-RADIUS=100;X-TITLE=Lennestadion -Wer
 ferplatz-Plettenberg:geo:51.23207,7.860159999999951
END:VEVENT
BEGIN:VTIMEZONE
TZID:Europe/Berlin
X-LIC-LOCATION:Europe/Berlin
BEGIN:STANDARD
DTSTART:20131027T020000
TZOFFSETFROM:+0200
TZOFFSETTO:+0100
TZNAME:CET
END:STANDARD
END:VTIMEZONE
END:VCALENDAR