BEGIN:VCALENDAR
VERSION:2.0
PRODID:-//wp-events-plugin.com//7.2.3.1//EN
TZID:Europe/Berlin
X-WR-TIMEZONE:Europe/Berlin
BEGIN:VEVENT
UID:1137@drtv.de
DTSTART;TZID=Europe/Berlin:20181028T000000
DTEND;TZID=Europe/Berlin:20181028T000000
DTSTAMP:20230713T183615Z
URL:https://drtv.de/events/werfertag-im-rasenkraftsport/
SUMMARY:Werfertag im Rasenkraftsport
DESCRIPTION:[prettyfilelink size="" src="https://www.drtv.de/wp-content/upl
 oads/2018/10/Bebra-28102108-Riege-1-3_Ergebnisliste.pdf" type="pdf"]Bebra 
 28102108 Riege 1-3_Ergebnisliste[/prettyfilelink]\n\n[prettyfilelink size=
 "" src="https://www.drtv.de/wp-content/uploads/2018/10/Bebra-28102108-RKS-
 Dreikampf_Ergebnisliste-Kurzform.pdf" type="pdf"]Bebra 28102108 RKS Dreika
 mpf_Ergebnisliste (Kurzform)[/prettyfilelink]\n\n[prettyfilelink size="" s
 rc="https://www.drtv.de/wp-content/uploads/2018/10/28.10.2018-WT-RKS-in-Be
 bra-Gilfershausen-Ausschreibung-AKTUALISIERT.pdf" type="pdf"]28.10.2018-WT
 -RKS-in-Bebra-Gilfershausen-Ausschreibung - AKTUALISIERT[/prettyfilelink]\
 n\n[prettyfilelink size="" src="https://www.drtv.de/wp-content/uploads/201
 8/10/28.10.2018-WT-RKS-in-Bebra-Gilfershausen-Ausschreibung.pdf" type="pdf
 "]28.10.2018-WT-RKS-in-Bebra-Gilfershausen-Ausschreibung[/prettyfilelink]
CATEGORIES:Ergebnis Rasenkraftsport,Ergebnisdatei RDA liegt vor,Termin
 Rasenkraftsport,Termin Rasenkraftsport + Ausschr.
LOCATION:Bebra/Gilfershausen\, In den Dellen 26\, Bebra-Gilfershausen\, Hes
 sen\, 36179\, Sportpark\, Deutschland
GEO:50.98554;9.829799999999977
X-APPLE-STRUCTURED-LOCATION;VALUE=URI;X-ADDRESS=In den Dellen 26\, Bebra-Gi
 lfershausen\, Hessen\, 36179\, Sportpark\, Deutschland;X-APPLE-RADIUS=100;
 X-TITLE=Bebra/Gilfershausen:geo:50.98554,9.829799999999977
END:VEVENT
BEGIN:VTIMEZONE
TZID:Europe/Berlin
X-LIC-LOCATION:Europe/Berlin
BEGIN:DAYLIGHT
DTSTART:20180325T030000
TZOFFSETFROM:+0100
TZOFFSETTO:+0200
TZNAME:CEST
END:DAYLIGHT
END:VTIMEZONE
END:VCALENDAR